BEGIN:VCALENDAR
VERSION:2.0
PRODID:-//Library - ECPv6.15.14//NONSGML v1.0//EN
CALSCALE:GREGORIAN
METHOD:PUBLISH
X-WR-CALNAME:Library
X-ORIGINAL-URL:https://library.sbcounty.gov
X-WR-CALDESC:Events for Library
REFRESH-INTERVAL;VALUE=DURATION:PT1H
X-Robots-Tag:noindex
X-PUBLISHED-TTL:PT1H
BEGIN:VTIMEZONE
TZID:America/Los_Angeles
BEGIN:DAYLIGHT
TZOFFSETFROM:-0800
TZOFFSETTO:-0700
TZNAME:PDT
DTSTART:20250309T100000
END:DAYLIGHT
BEGIN:STANDARD
TZOFFSETFROM:-0700
TZOFFSETTO:-0800
TZNAME:PST
DTSTART:20251102T090000
END:STANDARD
BEGIN:DAYLIGHT
TZOFFSETFROM:-0800
TZOFFSETTO:-0700
TZNAME:PDT
DTSTART:20260308T100000
END:DAYLIGHT
BEGIN:STANDARD
TZOFFSETFROM:-0700
TZOFFSETTO:-0800
TZNAME:PST
DTSTART:20261101T090000
END:STANDARD
BEGIN:DAYLIGHT
TZOFFSETFROM:-0800
TZOFFSETTO:-0700
TZNAME:PDT
DTSTART:20270314T100000
END:DAYLIGHT
BEGIN:STANDARD
TZOFFSETFROM:-0700
TZOFFSETTO:-0800
TZNAME:PST
DTSTART:20271107T090000
END:STANDARD
END:VTIMEZONE
BEGIN:VEVENT
DTSTART;TZID=America/Los_Angeles:20260521T163000
DTEND;TZID=America/Los_Angeles:20260521T183000
DTSTAMP:20260422T211257
CREATED:20260226T001141Z
LAST-MODIFIED:20260226T001141Z
UID:133788-1779381000-1779388200@library.sbcounty.gov
SUMMARY:Sci-Fi Fest
DESCRIPTION:Calling all heroes from galaxies far\, come in your costume or just as you are! Check out 15 items before you leave\, a cool incentive is what you’ll receive. The Force is strong-don’t miss the quest\, our Sci-Fi Fest is one of the best!
URL:https://library.sbcounty.gov/event/hesperia-sci-fi-fest/
LOCATION:Hesperia Branch Library\, 9650 7th Ave.\, Hesperia\, CA\, 92345\, United States
CATEGORIES:Families (all ages)
END:VEVENT
END:VCALENDAR