BEGIN:VCALENDAR
VERSION:2.0
PRODID:-//Library - ECPv6.15.14//NONSGML v1.0//EN
CALSCALE:GREGORIAN
METHOD:PUBLISH
X-WR-CALNAME:Library
X-ORIGINAL-URL:https://library.sbcounty.gov
X-WR-CALDESC:Events for Library
REFRESH-INTERVAL;VALUE=DURATION:PT1H
X-Robots-Tag:noindex
X-PUBLISHED-TTL:PT1H
BEGIN:VTIMEZONE
TZID:America/Los_Angeles
BEGIN:DAYLIGHT
TZOFFSETFROM:-0800
TZOFFSETTO:-0700
TZNAME:PDT
DTSTART:20250309T100000
END:DAYLIGHT
BEGIN:STANDARD
TZOFFSETFROM:-0700
TZOFFSETTO:-0800
TZNAME:PST
DTSTART:20251102T090000
END:STANDARD
BEGIN:DAYLIGHT
TZOFFSETFROM:-0800
TZOFFSETTO:-0700
TZNAME:PDT
DTSTART:20260308T100000
END:DAYLIGHT
BEGIN:STANDARD
TZOFFSETFROM:-0700
TZOFFSETTO:-0800
TZNAME:PST
DTSTART:20261101T090000
END:STANDARD
BEGIN:DAYLIGHT
TZOFFSETFROM:-0800
TZOFFSETTO:-0700
TZNAME:PDT
DTSTART:20270314T100000
END:DAYLIGHT
BEGIN:STANDARD
TZOFFSETFROM:-0700
TZOFFSETTO:-0800
TZNAME:PST
DTSTART:20271107T090000
END:STANDARD
END:VTIMEZONE
BEGIN:VEVENT
DTSTART;TZID=America/Los_Angeles:20260422T090000
DTEND;TZID=America/Los_Angeles:20260422T100000
DTSTAMP:20260422T053648
CREATED:20260226T203739Z
LAST-MODIFIED:20260226T203739Z
UID:10008694-1776848400-1776852000@library.sbcounty.gov
SUMMARY:Chair Exercise
DESCRIPTION:Exercise in a chair along with chair exercise (DVD instruction)
URL:https://library.sbcounty.gov/event/mentone-senior-center-chair-exercise-4/2026-04-22/
LOCATION:Mentone Senior Center\, 1331 Opal Ave.\, Mentone\, CA\, 92359\, United States
CATEGORIES:Seniors (65+)
END:VEVENT
BEGIN:VEVENT
DTSTART;TZID=America/Los_Angeles:20260422T090000
DTEND;TZID=America/Los_Angeles:20260422T100000
DTSTAMP:20260422T053648
CREATED:20260226T203927Z
LAST-MODIFIED:20260226T203927Z
UID:10008745-1776848400-1776852000@library.sbcounty.gov
SUMMARY:Walking 4 Wellness
DESCRIPTION:Walk with us on our 0.25 mile track outside of the Senior Center and Library!
URL:https://library.sbcounty.gov/event/mentone-senior-center-walking-4-wellness-4/2026-04-22/
LOCATION:Mentone Senior Center\, 1331 Opal Ave.\, Mentone\, CA\, 92359\, United States
CATEGORIES:Seniors (65+)
END:VEVENT
BEGIN:VEVENT
DTSTART;TZID=America/Los_Angeles:20260422T100000
DTEND;TZID=America/Los_Angeles:20260422T200000
DTSTAMP:20260422T053648
CREATED:20260210T213435Z
LAST-MODIFIED:20260210T213435Z
UID:10003735-1776852000-1776888000@library.sbcounty.gov
SUMMARY:Earth Week Scavenger Hunt
DESCRIPTION:Celebrate Earth Day with an eco friendly adventure! Pick up your scavenger hunt list at the children’s desk. There will be a special incentive for those that complete all tasks!
URL:https://library.sbcounty.gov/event/earth-week-scavenger-hunt/2026-04-22/
LOCATION:James S. Thalman Chino Hills Branch Library\, 14020 City Center Dr.\, Chino Hills\, CA\, 91709\, United States
CATEGORIES:Families (all ages)
END:VEVENT
BEGIN:VEVENT
DTSTART;TZID=America/Los_Angeles:20260422T100000
DTEND;TZID=America/Los_Angeles:20260422T200000
DTSTAMP:20260422T053648
CREATED:20260225T234800Z
LAST-MODIFIED:20260225T234800Z
UID:10008034-1776852000-1776888000@library.sbcounty.gov
SUMMARY:Senior Sale at the Library!
DESCRIPTION:Every Wednesday\, Senior Citizens can enjoy 50% off of books\, DVD’s and other materials in our book store! All funds raised are invested back into the local branch library to better serve the community.
URL:https://library.sbcounty.gov/event/hesperia-senior-sale-at-the-library/2026-04-22/
LOCATION:Hesperia Branch Library\, 9650 7th Ave.\, Hesperia\, CA\, 92345\, United States
CATEGORIES:Seniors (65+)
END:VEVENT
BEGIN:VEVENT
DTSTART;TZID=America/Los_Angeles:20260422T133000
DTEND;TZID=America/Los_Angeles:20260422T143000
DTSTAMP:20260422T053648
CREATED:20260218T235700Z
LAST-MODIFIED:20260218T235700Z
UID:10005106-1776864600-1776868200@library.sbcounty.gov
SUMMARY:Storytime
DESCRIPTION:The whole family can be part of the reading adventure at this wonderfully fun and engaging storytime with great stories\, songs\, rhymes\, a craft\, and more.
URL:https://library.sbcounty.gov/event/needles-storytime-2/2026-04-22/
LOCATION:Needles Branch Library\, 1111 Bailey Ave.\, Needles\, CA\, 92363\, United States
CATEGORIES:Kids Zone (6-11 years)
END:VEVENT
BEGIN:VEVENT
DTSTART;TZID=America/Los_Angeles:20260422T140000
DTEND;TZID=America/Los_Angeles:20260422T150000
DTSTAMP:20260422T053648
CREATED:20260209T184500Z
LAST-MODIFIED:20260209T184500Z
UID:10002526-1776866400-1776870000@library.sbcounty.gov
SUMMARY:Storytime
DESCRIPTION:The whole family can be part of the reading adventure at this wonderfully fun and engaging storytime with great stories\, songs\, rhymes\, a craft\, and more.
URL:https://library.sbcounty.gov/event/lucerne-valley-storytime-2/2026-04-22/
LOCATION:Lucerne Valley Janice Horst Branch Library\, 33103 Old Woman Springs Rd.\, Lucerne Valley\, CA\, 92356\, United States
CATEGORIES:Kids Zone (6-11 years)
END:VEVENT
BEGIN:VEVENT
DTSTART;TZID=America/Los_Angeles:20260422T140000
DTEND;TZID=America/Los_Angeles:20260422T150000
DTSTAMP:20260422T053648
CREATED:20260218T213001Z
LAST-MODIFIED:20260218T213001Z
UID:10004500-1776866400-1776870000@library.sbcounty.gov
SUMMARY:Friends of the Library Meeting
DESCRIPTION:Friends of the Library board and committee members generally meet once a month to conduct business. If you are interested in volunteering to help support library programming and collections\, membership applications and brochures are available at your local branch.
URL:https://library.sbcounty.gov/event/yucca-valley-friends-of-the-library-meeting-2/
LOCATION:Yucca Valley Branch Library\, 57271 29 Palms Highway\, Yucca Valley\, 92284\, United States
CATEGORIES:Adults (18+)
END:VEVENT
BEGIN:VEVENT
DTSTART;TZID=America/Los_Angeles:20260422T150000
DTEND;TZID=America/Los_Angeles:20260422T170000
DTSTAMP:20260422T053648
CREATED:20260225T183311Z
LAST-MODIFIED:20260225T212209Z
UID:10006180-1776870000-1776877200@library.sbcounty.gov
SUMMARY:Family Paint Event
DESCRIPTION:Encourage your inner artist at this step-by-step painting lesson and leave with a masterpiece of your own. \n\nActivity: Sea Turtle
URL:https://library.sbcounty.gov/event/crestline-family-paint-event/
LOCATION:Crestline Branch Library\, 24105 Lake Gregory Dr.\, Crestline\, CA\, 92325\, United States
CATEGORIES:Families (all ages)
END:VEVENT
BEGIN:VEVENT
DTSTART;TZID=America/Los_Angeles:20260422T160000
DTEND;TZID=America/Los_Angeles:20260422T170000
DTSTAMP:20260422T053648
CREATED:20260203T215655Z
LAST-MODIFIED:20260204T172733Z
UID:10001818-1776873600-1776877200@library.sbcounty.gov
SUMMARY:Storytime
DESCRIPTION:The whole family can be part of the reading adventure at this wonderfully fun and engaging storytime with great stories\, songs\, rhymes\, a craft\, and more.
URL:https://library.sbcounty.gov/event/bloomington-storytime-2/2026-04-22/
LOCATION:Bloomington Branch Library\, 18028 Valley Blvd.\, Bloomington\, CA\, 92316\, United States
CATEGORIES:Kids Zone (6-11 years)
END:VEVENT
BEGIN:VEVENT
DTSTART;TZID=America/Los_Angeles:20260422T160000
DTEND;TZID=America/Los_Angeles:20260422T170000
DTSTAMP:20260422T053648
CREATED:20260225T212315Z
LAST-MODIFIED:20260225T212315Z
UID:10007080-1776873600-1776877200@library.sbcounty.gov
SUMMARY:Family Paint Event
DESCRIPTION:Encourage your inner artist at this step-by-step painting lesson and leave with a masterpiece of your own. \n\nActivity: A Colorful Beach
URL:https://library.sbcounty.gov/event/highland-family-paint-event-2/
LOCATION:Highland Sam J. Racadio Library & Environmental Learning Center\, 7863 Central Ave.\, Highland\, CA\, 92346\, United States
CATEGORIES:Families (all ages)
END:VEVENT
BEGIN:VEVENT
DTSTART;TZID=America/Los_Angeles:20260422T163000
DTEND;TZID=America/Los_Angeles:20260422T173000
DTSTAMP:20260422T053648
CREATED:20260210T213736Z
LAST-MODIFIED:20260211T175224Z
UID:10003753-1776875400-1776879000@library.sbcounty.gov
SUMMARY:STEAM Craft
DESCRIPTION:Exercise both sides of your brain with an awesome STEAM (Science\, Technology\, Engineering\, Arts\, and Math) craft at the library! How do plants grow?
URL:https://library.sbcounty.gov/event/chino-hills-steam-craft/
LOCATION:James S. Thalman Chino Hills Branch Library\, 14020 City Center Dr.\, Chino Hills\, CA\, 91709\, United States
CATEGORIES:Kids Zone (6-11 years)
END:VEVENT
END:VCALENDAR