BEGIN:VCALENDAR
VERSION:2.0
PRODID:-//Library - ECPv6.15.14//NONSGML v1.0//EN
CALSCALE:GREGORIAN
METHOD:PUBLISH
X-WR-CALNAME:Library
X-ORIGINAL-URL:https://library.sbcounty.gov
X-WR-CALDESC:Events for Library
REFRESH-INTERVAL;VALUE=DURATION:PT1H
X-Robots-Tag:noindex
X-PUBLISHED-TTL:PT1H
BEGIN:VTIMEZONE
TZID:America/Los_Angeles
BEGIN:DAYLIGHT
TZOFFSETFROM:-0800
TZOFFSETTO:-0700
TZNAME:PDT
DTSTART:20250309T100000
END:DAYLIGHT
BEGIN:STANDARD
TZOFFSETFROM:-0700
TZOFFSETTO:-0800
TZNAME:PST
DTSTART:20251102T090000
END:STANDARD
BEGIN:DAYLIGHT
TZOFFSETFROM:-0800
TZOFFSETTO:-0700
TZNAME:PDT
DTSTART:20260308T100000
END:DAYLIGHT
BEGIN:STANDARD
TZOFFSETFROM:-0700
TZOFFSETTO:-0800
TZNAME:PST
DTSTART:20261101T090000
END:STANDARD
BEGIN:DAYLIGHT
TZOFFSETFROM:-0800
TZOFFSETTO:-0700
TZNAME:PDT
DTSTART:20270314T100000
END:DAYLIGHT
BEGIN:STANDARD
TZOFFSETFROM:-0700
TZOFFSETTO:-0800
TZNAME:PST
DTSTART:20271107T090000
END:STANDARD
END:VTIMEZONE
BEGIN:VEVENT
DTSTART;TZID=America/Los_Angeles:20260603T140000
DTEND;TZID=America/Los_Angeles:20260603T150000
DTSTAMP:20260419T180235
CREATED:20260225T225030Z
LAST-MODIFIED:20260225T225030Z
UID:10007671-1780495200-1780498800@library.sbcounty.gov
SUMMARY:Storytime
DESCRIPTION:The whole family can be part of the reading adventure at this wonderfully fun and engaging storytime with great stories\, songs\, rhymes\, a craft\, and more.
URL:https://library.sbcounty.gov/event/fontana-storytime-2/2026-06-03/
LOCATION:Fontana Lewis Library & Technology Center\, 8437 Sierra Avenue\, Fontana\, CA\, 92335\, United States
CATEGORIES:Kids Zone (6-11 years)
END:VEVENT
BEGIN:VEVENT
DTSTART;TZID=America/Los_Angeles:20260603T150000
DTEND;TZID=America/Los_Angeles:20260603T160000
DTSTAMP:20260419T180235
CREATED:20260218T213852Z
LAST-MODIFIED:20260218T213852Z
UID:10004608-1780498800-1780502400@library.sbcounty.gov
SUMMARY:Basic Computer Class
DESCRIPTION:Adults are invited to an introduction to common computer tasks\, from how to use a mouse and keyboard\, to basic typing\, internet\, and email functions.
URL:https://library.sbcounty.gov/event/yucca-valley-basic-computer-class/2026-06-03/
LOCATION:Yucca Valley Branch Library\, 57271 29 Palms Highway\, Yucca Valley\, 92284\, United States
CATEGORIES:Adults (18+)
END:VEVENT
BEGIN:VEVENT
DTSTART;TZID=America/Los_Angeles:20260603T150000
DTEND;TZID=America/Los_Angeles:20260603T160000
DTSTAMP:20260419T180235
CREATED:20260225T183830Z
LAST-MODIFIED:20260225T183830Z
UID:10006249-1780498800-1780502400@library.sbcounty.gov
SUMMARY:Craft Corner
DESCRIPTION:Create wonderful themed projects and learn new skills using all sorts of artistic supplies.
URL:https://library.sbcounty.gov/event/crestline-craft-corner-2/2026-06-03/
LOCATION:Crestline Branch Library\, 24105 Lake Gregory Dr.\, Crestline\, CA\, 92325\, United States
CATEGORIES:Kids Zone (6-11 years)
END:VEVENT
BEGIN:VEVENT
DTSTART;TZID=America/Los_Angeles:20260603T150000
DTEND;TZID=America/Los_Angeles:20260603T160000
DTSTAMP:20260419T180235
CREATED:20260225T225130Z
LAST-MODIFIED:20260225T232243Z
UID:10007689-1780498800-1780502400@library.sbcounty.gov
SUMMARY:Family Game Time
DESCRIPTION:Enjoy the fun and challenge of playing a variety of board games while making some new friends.
URL:https://library.sbcounty.gov/event/fontana-family-game-time-2/2026-06-03/
LOCATION:Fontana Lewis Library & Technology Center\, 8437 Sierra Avenue\, Fontana\, CA\, 92335\, United States
CATEGORIES:Families (all ages)
END:VEVENT
BEGIN:VEVENT
DTSTART;TZID=America/Los_Angeles:20260603T160000
DTEND;TZID=America/Los_Angeles:20260603T170000
DTSTAMP:20260419T180235
CREATED:20260202T174547Z
LAST-MODIFIED:20260204T172147Z
UID:10001572-1780502400-1780506000@library.sbcounty.gov
SUMMARY:Discover Art
DESCRIPTION:Learn about famous artists and exciting creative techniques in this hands-on program that highlights artistic movements\, media\, and skills.
URL:https://library.sbcounty.gov/event/apple-valley-discover-art-2/2026-06-03/
LOCATION:Apple Valley Newton T. Bass Branch Library\, 14901 Dale Evans Parkway\, Apple Valley\, CA\, 92307\, United States
CATEGORIES:Kids Zone (6-11 years)
END:VEVENT
BEGIN:VEVENT
DTSTART;TZID=America/Los_Angeles:20260603T160000
DTEND;TZID=America/Los_Angeles:20260603T170000
DTSTAMP:20260419T180235
CREATED:20260203T222452Z
LAST-MODIFIED:20260204T172122Z
UID:10001854-1780502400-1780506000@library.sbcounty.gov
SUMMARY:Storytime
DESCRIPTION:The whole family can be part of the reading adventure at this wonderfully fun and engaging storytime with great stories\, songs\, rhymes\, a craft\, and more.
URL:https://library.sbcounty.gov/event/bloomington-storytime-3/2026-06-03/
LOCATION:Bloomington Branch Library\, 18028 Valley Blvd.\, Bloomington\, CA\, 92316\, United States
CATEGORIES:Kids Zone (6-11 years)
END:VEVENT
BEGIN:VEVENT
DTSTART;TZID=America/Los_Angeles:20260603T160000
DTEND;TZID=America/Los_Angeles:20260603T170000
DTSTAMP:20260419T180235
CREATED:20260211T173528Z
LAST-MODIFIED:20260211T173528Z
UID:10004284-1780502400-1780506000@library.sbcounty.gov
SUMMARY:Craft Corner
DESCRIPTION:Create wonderful themed projects and learn new skills using all sorts of artistic supplies.
URL:https://library.sbcounty.gov/event/yucaipa-craft-corner-2/2026-06-03/
LOCATION:Yucaipa Branch Library\, 12040 5th St.\, Yucaipa\, CA\, 92399\, United States
CATEGORIES:Kids Zone (6-11 years)
END:VEVENT
BEGIN:VEVENT
DTSTART;TZID=America/Los_Angeles:20260603T160000
DTEND;TZID=America/Los_Angeles:20260603T170000
DTSTAMP:20260419T180235
CREATED:20260218T213541Z
LAST-MODIFIED:20260218T213541Z
UID:10004572-1780502400-1780506000@library.sbcounty.gov
SUMMARY:Discover Art
DESCRIPTION:Learn about famous artists and exciting creative techniques in this hands-on program that highlights artistic movements\, media\, and skills.
URL:https://library.sbcounty.gov/event/yucca-valley-discover-art/2026-06-03/
LOCATION:Yucca Valley Branch Library\, 57271 29 Palms Highway\, Yucca Valley\, 92284\, United States
CATEGORIES:Kids Zone (6-11 years)
END:VEVENT
BEGIN:VEVENT
DTSTART;TZID=America/Los_Angeles:20260603T160000
DTEND;TZID=America/Los_Angeles:20260603T170000
DTSTAMP:20260419T180235
CREATED:20260219T172609Z
LAST-MODIFIED:20260219T172609Z
UID:10005331-1780502400-1780506000@library.sbcounty.gov
SUMMARY:Family Game Time
DESCRIPTION:Enjoy the fun and challenge of playing a variety of board games while making some new friends.
URL:https://library.sbcounty.gov/event/muscoy-family-game-time/2026-06-03/
LOCATION:Muscoy Baker Family Learning Center\, 2818 Macy Street\, Muscoy\, CA\, 92407\, United States
CATEGORIES:Families (all ages)
END:VEVENT
BEGIN:VEVENT
DTSTART;TZID=America/Los_Angeles:20260603T160000
DTEND;TZID=America/Los_Angeles:20260603T170000
DTSTAMP:20260419T180235
CREATED:20260219T180949Z
LAST-MODIFIED:20260219T180949Z
UID:10005682-1780502400-1780506000@library.sbcounty.gov
SUMMARY:Storytime
DESCRIPTION:The whole family can be part of the reading adventure at this wonderfully fun and engaging storytime with great stories\, songs\, rhymes\, a craft\, and more.
URL:https://library.sbcounty.gov/event/montclair-storytime-2/2026-06-03/
LOCATION:Montclair Branch Library\, 9955 Fremont Ave.\, Montclair\, CA\, 91763\, United States
CATEGORIES:Kids Zone (6-11 years)
END:VEVENT
BEGIN:VEVENT
DTSTART;TZID=America/Los_Angeles:20260603T160000
DTEND;TZID=America/Los_Angeles:20260603T170000
DTSTAMP:20260419T180235
CREATED:20260225T212845Z
LAST-MODIFIED:20260225T212845Z
UID:10007170-1780502400-1780506000@library.sbcounty.gov
SUMMARY:Craft Corner
DESCRIPTION:Create wonderful themed projects and learn new skills using all sorts of artistic supplies.
URL:https://library.sbcounty.gov/event/highland-craft-corner-2/2026-06-03/
LOCATION:Highland Sam J. Racadio Library & Environmental Learning Center\, 7863 Central Ave.\, Highland\, CA\, 92346\, United States
CATEGORIES:Kids Zone (6-11 years)
END:VEVENT
BEGIN:VEVENT
DTSTART;TZID=America/Los_Angeles:20260603T160000
DTEND;TZID=America/Los_Angeles:20260603T170000
DTSTAMP:20260419T180235
CREATED:20260226T000301Z
LAST-MODIFIED:20260226T000301Z
UID:10008136-1780502400-1780506000@library.sbcounty.gov
SUMMARY:Discover Art
DESCRIPTION:Learn about famous artists and exciting creative techniques in this hands-on program that highlights artistic movements\, media\, and skills.
URL:https://library.sbcounty.gov/event/hesperia-discover-art-2/2026-06-03/
LOCATION:Hesperia Branch Library\, 9650 7th Ave.\, Hesperia\, CA\, 92345\, United States
CATEGORIES:Kids Zone (6-11 years)
END:VEVENT
BEGIN:VEVENT
DTSTART;TZID=America/Los_Angeles:20260603T160000
DTEND;TZID=America/Los_Angeles:20260603T173000
DTSTAMP:20260419T180235
CREATED:20260209T213249Z
LAST-MODIFIED:20260210T170449Z
UID:10002745-1780502400-1780507800@library.sbcounty.gov
SUMMARY:Family Movie
DESCRIPTION:Join us at the library for a family-friendly movie! Enjoy laughs\, thrills\, and excitement with a beloved film—or discover a new favorite together. \n\nMovie selection: The Lego Movie (2014)
URL:https://library.sbcounty.gov/event/mentone-family-movie-6/
LOCATION:Mentone Library\, 1331 Opal Ave.\, Mentone\, CA\, 92359\, United States
CATEGORIES:Families (all ages)
END:VEVENT
BEGIN:VEVENT
DTSTART;TZID=America/Los_Angeles:20260603T163000
DTEND;TZID=America/Los_Angeles:20260603T173000
DTSTAMP:20260419T180235
CREATED:20260209T233923Z
LAST-MODIFIED:20260209T233923Z
UID:10003072-1780504200-1780507800@library.sbcounty.gov
SUMMARY:Craft Corner
DESCRIPTION:Create wonderful themed projects and learn new skills using all sorts of artistic supplies.
URL:https://library.sbcounty.gov/event/running-springs-craft-corner-2/2026-06-03/
LOCATION:Running Springs Branch Library\, 2677 Whispering Pines Dr.\, Running Springs\, CA\, 92382\, United States
CATEGORIES:Kids Zone (6-11 years)
END:VEVENT
BEGIN:VEVENT
DTSTART;TZID=America/Los_Angeles:20260603T163000
DTEND;TZID=America/Los_Angeles:20260603T173000
DTSTAMP:20260419T180235
CREATED:20260210T215457Z
LAST-MODIFIED:20260210T215457Z
UID:10003894-1780504200-1780507800@library.sbcounty.gov
SUMMARY:Learnology Lab
DESCRIPTION:Explore STEM (Science\, Technology\, Engineering\, and Mathematics) topics with fun hands-on projects. What will you discover about our awesome world?
URL:https://library.sbcounty.gov/event/chino-hills-learnology-lab-2/2026-06-03/
LOCATION:James S. Thalman Chino Hills Branch Library\, 14020 City Center Dr.\, Chino Hills\, CA\, 91709\, United States
CATEGORIES:Kids Zone (6-11 years)
END:VEVENT
BEGIN:VEVENT
DTSTART;TZID=America/Los_Angeles:20260603T170000
DTEND;TZID=America/Los_Angeles:20260603T180000
DTSTAMP:20260419T180235
CREATED:20260218T233847Z
LAST-MODIFIED:20260218T233847Z
UID:10005037-1780506000-1780509600@library.sbcounty.gov
SUMMARY:Basic Internet Class
DESCRIPTION:This adult computer course focuses on how to do internet searches\, fill out digital forms\, and online safety tips.
URL:https://library.sbcounty.gov/event/rialto-basic-internet-class/2026-06-03/
LOCATION:Rialto Branch Library\, 251 West 1st St.\, Rialto\, CA\, 92376\, United States
CATEGORIES:Adults (18+)
END:VEVENT
BEGIN:VEVENT
DTSTART;TZID=America/Los_Angeles:20260603T170000
DTEND;TZID=America/Los_Angeles:20260603T180000
DTSTAMP:20260419T180235
CREATED:20260219T173002Z
LAST-MODIFIED:20260219T173002Z
UID:10005385-1780506000-1780509600@library.sbcounty.gov
SUMMARY:Adult Book Club
DESCRIPTION:Come together with other book enthusiasts to read and discuss selected novels and nonfiction. Everyone is welcome to share their perspectives and insights! \n\nBook selection: Mockingjay by Suzanne Collins
URL:https://library.sbcounty.gov/event/muscoy-adult-book-club-2/2026-06-03/
LOCATION:Muscoy Baker Family Learning Center\, 2818 Macy Street\, Muscoy\, CA\, 92407\, United States
CATEGORIES:Adults (18+)
END:VEVENT
BEGIN:VEVENT
DTSTART;TZID=America/Los_Angeles:20260603T180000
DTEND;TZID=America/Los_Angeles:20260603T190000
DTSTAMP:20260419T180235
CREATED:20260204T185636Z
LAST-MODIFIED:20260204T185636Z
UID:10001992-1780509600-1780513200@library.sbcounty.gov
SUMMARY:Storytime
DESCRIPTION:The whole family can be part of the reading adventure at this wonderfully fun and engaging storytime with great stories\, songs\, rhymes\, a craft\, and more.
URL:https://library.sbcounty.gov/event/cal-aero-preserve-storytime-2/2026-06-03/
LOCATION:Cal Aero Preserve Academy Branch Library\, 15850 Main Street\, Chino\, CA\, 91708\, United States
CATEGORIES:Kids Zone (6-11 years)
END:VEVENT
BEGIN:VEVENT
DTSTART;TZID=America/Los_Angeles:20260603T180000
DTEND;TZID=America/Los_Angeles:20260603T190000
DTSTAMP:20260419T180235
CREATED:20260225T230053Z
LAST-MODIFIED:20260225T230053Z
UID:10007776-1780509600-1780513200@library.sbcounty.gov
SUMMARY:Spanish Computer Class
DESCRIPTION:Adults are invited to an indrodctuion to common computer tasks\, from how to use a mouse and keyboard\, to basic typing\, internet and email functions. This class is given in Spanish.
URL:https://library.sbcounty.gov/event/fontana-spanish-computer-class-2/2026-06-03/
LOCATION:Fontana Lewis Library & Technology Center\, 8437 Sierra Avenue\, Fontana\, CA\, 92335\, United States
CATEGORIES:Adults (18+)
END:VEVENT
BEGIN:VEVENT
DTSTART;TZID=America/Los_Angeles:20260604T083000
DTEND;TZID=America/Los_Angeles:20260604T090000
DTSTAMP:20260419T180235
CREATED:20260226T204405Z
LAST-MODIFIED:20260226T204405Z
UID:10008814-1780561800-1780563600@library.sbcounty.gov
SUMMARY:Senior Breakfast
DESCRIPTION:Join us for our senior breakfast to eat and socialize!
URL:https://library.sbcounty.gov/event/mentone-senior-center-senior-breakfast/2026-06-04/
LOCATION:Mentone Senior Center\, 1331 Opal Ave.\, Mentone\, CA\, 92359\, United States
CATEGORIES:Seniors (65+)
END:VEVENT
BEGIN:VEVENT
DTSTART;TZID=America/Los_Angeles:20260604T090000
DTEND;TZID=America/Los_Angeles:20260604T100000
DTSTAMP:20260419T180235
CREATED:20260226T204552Z
LAST-MODIFIED:20260226T204552Z
UID:10008865-1780563600-1780567200@library.sbcounty.gov
SUMMARY:Chair Yoga
DESCRIPTION:Join us for a series of gentle physical exercises and stretches that will calm your mind and strengthen your body! (DVD instruction)
URL:https://library.sbcounty.gov/event/mentone-senior-center-chair-yoga/2026-06-04/
LOCATION:Mentone Senior Center\, 1331 Opal Ave.\, Mentone\, CA\, 92359\, United States
CATEGORIES:Seniors (65+)
END:VEVENT
BEGIN:VEVENT
DTSTART;TZID=America/Los_Angeles:20260604T090000
DTEND;TZID=America/Los_Angeles:20260604T100000
DTSTAMP:20260419T180235
CREATED:20260226T204655Z
LAST-MODIFIED:20260226T204655Z
UID:10008916-1780563600-1780567200@library.sbcounty.gov
SUMMARY:Walking 4 Wellness
DESCRIPTION:Walk with us on our 0.25 mile track outside of the Senior Center and Library!
URL:https://library.sbcounty.gov/event/mentone-senior-center-walking-4-wellness-5/2026-06-04/
LOCATION:Mentone Senior Center\, 1331 Opal Ave.\, Mentone\, CA\, 92359\, United States
CATEGORIES:Seniors (65+)
END:VEVENT
BEGIN:VEVENT
DTSTART;TZID=America/Los_Angeles:20260604T100000
DTEND;TZID=America/Los_Angeles:20260604T110000
DTSTAMP:20260419T180235
CREATED:20260209T163158Z
LAST-MODIFIED:20260209T163158Z
UID:10002151-1780567200-1780570800@library.sbcounty.gov
SUMMARY:Little Artists
DESCRIPTION:Create fun\, sometimes messy\, art with your little one and guide their imagination by making a project together\, or let them steal the show with their own personal artistic style!
URL:https://library.sbcounty.gov/event/grand-terrace-little-artists-2/2026-06-04/
LOCATION:Grand Terrace Branch Library\, 22795 Barton Rd.\, Grand Terrace\, CA\, 92313\, United States
CATEGORIES:Library Beginners (0-5 years)
END:VEVENT
BEGIN:VEVENT
DTSTART;TZID=America/Los_Angeles:20260604T100000
DTEND;TZID=America/Los_Angeles:20260604T110000
DTSTAMP:20260419T180235
CREATED:20260209T233809Z
LAST-MODIFIED:20260209T233809Z
UID:10003054-1780567200-1780570800@library.sbcounty.gov
SUMMARY:Preschool Storytime
DESCRIPTION:Enjoy an engaging storytime geared toward the younger crowd featuring stories\, songs\, rhymes\, a craft\, and more. A letter is featured each day to help familiarize children with the sights and sounds of the alphabet.
URL:https://library.sbcounty.gov/event/running-springs-preschool-storytime-2/2026-06-04/
LOCATION:Running Springs Branch Library\, 2677 Whispering Pines Dr.\, Running Springs\, CA\, 92382\, United States
CATEGORIES:Library Beginners (0-5 years)
END:VEVENT
BEGIN:VEVENT
DTSTART;TZID=America/Los_Angeles:20260604T100000
DTEND;TZID=America/Los_Angeles:20260604T180000
DTSTAMP:20260419T180235
CREATED:20260218T214415Z
LAST-MODIFIED:20260225T235331Z
UID:10004632-1780567200-1780596000@library.sbcounty.gov
SUMMARY:Thrifty Thursday Friends of the Library Book Sale
DESCRIPTION:We invite all seniors to BUY ONE GET ONE FREE every Thursday. All funds raised by the FOL Book Sale are invested back into the local branch library to better serve the community.
URL:https://library.sbcounty.gov/event/yucca-valley-thrifty-thursday-friends-of-the-library-book-sale-2/2026-06-04/
LOCATION:Yucca Valley Branch Library\, 57271 29 Palms Highway\, Yucca Valley\, 92284\, United States
CATEGORIES:Seniors (65+)
END:VEVENT
BEGIN:VEVENT
DTSTART;TZID=America/Los_Angeles:20260604T101500
DTEND;TZID=America/Los_Angeles:20260604T110000
DTSTAMP:20260419T180235
CREATED:20260226T204902Z
LAST-MODIFIED:20260226T204902Z
UID:10008967-1780568100-1780570800@library.sbcounty.gov
SUMMARY:Hula for Health
DESCRIPTION:Join us for a low impact gentle Hula exercises!
URL:https://library.sbcounty.gov/event/mentone-senior-center-hula-for-health/2026-06-04/
LOCATION:Mentone Senior Center\, 1331 Opal Ave.\, Mentone\, CA\, 92359\, United States
CATEGORIES:Seniors (65+)
END:VEVENT
BEGIN:VEVENT
DTSTART;TZID=America/Los_Angeles:20260604T103000
DTEND;TZID=America/Los_Angeles:20260604T113000
DTSTAMP:20260419T180235
CREATED:20260209T194414Z
LAST-MODIFIED:20260209T194414Z
UID:10002712-1780569000-1780572600@library.sbcounty.gov
SUMMARY:Totally Toddlers
DESCRIPTION:Your toddler will love this lively program! We use interactive songs\, activities\, books\, and fun crafts to help build early letter recognition and socialization skills.
URL:https://library.sbcounty.gov/event/mentone-totally-toddlers/2026-06-04/
LOCATION:Mentone Library\, 1331 Opal Ave.\, Mentone\, CA\, 92359\, United States
CATEGORIES:Library Beginners (0-5 years)
END:VEVENT
BEGIN:VEVENT
DTSTART;TZID=America/Los_Angeles:20260604T110000
DTEND;TZID=America/Los_Angeles:20260604T120000
DTSTAMP:20260419T180235
CREATED:20260202T174029Z
LAST-MODIFIED:20260204T172025Z
UID:10001503-1780570800-1780574400@library.sbcounty.gov
SUMMARY:Preschool Storytime
DESCRIPTION:Enjoy an engaging storytime geared toward the younger crowd featuring stories\, songs\, rhymes\, a craft\, and more. A letter is featured each day to help familiarize children with the sights and sounds of the alphabet.
URL:https://library.sbcounty.gov/event/apple-valley-preschool-storytime-3/2026-06-04/
LOCATION:Apple Valley Newton T. Bass Branch Library\, 14901 Dale Evans Parkway\, Apple Valley\, CA\, 92307\, United States
CATEGORIES:Library Beginners (0-5 years)
END:VEVENT
BEGIN:VEVENT
DTSTART;TZID=America/Los_Angeles:20260604T110000
DTEND;TZID=America/Los_Angeles:20260604T120000
DTSTAMP:20260419T180235
CREATED:20260209T180915Z
LAST-MODIFIED:20260209T180915Z
UID:10002400-1780570800-1780574400@library.sbcounty.gov
SUMMARY:Toddler Bootcamp
DESCRIPTION:For the more active toddler\, this course includes high energy songs with lots of movement to inspire healthy physical activity in a fun and exciting way your child will love.
URL:https://library.sbcounty.gov/event/loma-linda-toddler-bootcamp-2/2026-06-04/
LOCATION:Loma Linda Branch Library\, 25581 Barton Rd.\, Loma Linda\, CA\, 92354\, United States
CATEGORIES:Library Beginners (0-5 years)
END:VEVENT
BEGIN:VEVENT
DTSTART;TZID=America/Los_Angeles:20260604T110000
DTEND;TZID=America/Los_Angeles:20260604T120000
DTSTAMP:20260419T180235
CREATED:20260219T180625Z
LAST-MODIFIED:20260219T180625Z
UID:10005628-1780570800-1780574400@library.sbcounty.gov
SUMMARY:Kids on the Move
DESCRIPTION:Jump\, clap\, shake\, and dance your way through this energetic class. Parents are encouraged to participate as we inspire a healthy model of physical activity in a fun and engaging way.
URL:https://library.sbcounty.gov/event/montclair-kids-on-the-move/2026-06-04/
LOCATION:Montclair Branch Library\, 9955 Fremont Ave.\, Montclair\, CA\, 91763\, United States
CATEGORIES:Library Beginners (0-5 years)
END:VEVENT
END:VCALENDAR