BEGIN:VCALENDAR
VERSION:2.0
PRODID:-//Library - ECPv6.15.14//NONSGML v1.0//EN
CALSCALE:GREGORIAN
METHOD:PUBLISH
X-ORIGINAL-URL:https://library.sbcounty.gov
X-WR-CALDESC:Events for Library
REFRESH-INTERVAL;VALUE=DURATION:PT1H
X-Robots-Tag:noindex
X-PUBLISHED-TTL:PT1H
BEGIN:VTIMEZONE
TZID:America/Los_Angeles
BEGIN:DAYLIGHT
TZOFFSETFROM:-0800
TZOFFSETTO:-0700
TZNAME:PDT
DTSTART:20250309T100000
END:DAYLIGHT
BEGIN:STANDARD
TZOFFSETFROM:-0700
TZOFFSETTO:-0800
TZNAME:PST
DTSTART:20251102T090000
END:STANDARD
BEGIN:DAYLIGHT
TZOFFSETFROM:-0800
TZOFFSETTO:-0700
TZNAME:PDT
DTSTART:20260308T100000
END:DAYLIGHT
BEGIN:STANDARD
TZOFFSETFROM:-0700
TZOFFSETTO:-0800
TZNAME:PST
DTSTART:20261101T090000
END:STANDARD
BEGIN:DAYLIGHT
TZOFFSETFROM:-0800
TZOFFSETTO:-0700
TZNAME:PDT
DTSTART:20270314T100000
END:DAYLIGHT
BEGIN:STANDARD
TZOFFSETFROM:-0700
TZOFFSETTO:-0800
TZNAME:PST
DTSTART:20271107T090000
END:STANDARD
END:VTIMEZONE
BEGIN:VEVENT
DTSTART;TZID=America/Los_Angeles:20260604T113000
DTEND;TZID=America/Los_Angeles:20260604T123000
DTSTAMP:20260420T223123
CREATED:20260226T000112Z
LAST-MODIFIED:20260226T000112Z
UID:10008100-1780572600-1780576200@library.sbcounty.gov
SUMMARY:Little Artists
DESCRIPTION:Create fun\, sometimes messy\, art with your little one and guide their imagination by making a project together\, or let them steal the show with their own personal artistic style!
URL:https://library.sbcounty.gov/event/hesperia-little-artists-2/2026-06-04/
LOCATION:Hesperia Branch Library\, 9650 7th Ave.\, Hesperia\, CA\, 92345\, United States
CATEGORIES:Library Beginners (0-5 years)
END:VEVENT
BEGIN:VEVENT
DTSTART;TZID=America/Los_Angeles:20260604T120000
DTEND;TZID=America/Los_Angeles:20260604T130000
DTSTAMP:20260420T223123
CREATED:20260209T181130Z
LAST-MODIFIED:20260209T181130Z
UID:10002418-1780574400-1780578000@library.sbcounty.gov
SUMMARY:Little Artists
DESCRIPTION:Create fun\, sometimes messy\, art with your little one and guide their imagination by making a project together\, or let them steal the show with their own personal artistic style!
URL:https://library.sbcounty.gov/event/loma-linda-little-artists-2/2026-06-04/
LOCATION:Loma Linda Branch Library\, 25581 Barton Rd.\, Loma Linda\, CA\, 92354\, United States
CATEGORIES:Library Beginners (0-5 years)
END:VEVENT
BEGIN:VEVENT
DTSTART;TZID=America/Los_Angeles:20260604T120000
DTEND;TZID=America/Los_Angeles:20260604T130000
DTSTAMP:20260420T223123
CREATED:20260218T231708Z
LAST-MODIFIED:20260218T231708Z
UID:10004965-1780574400-1780578000@library.sbcounty.gov
SUMMARY:Preschool Storytime
DESCRIPTION:Enjoy an engaging storytime geared toward the younger crowd featuring stories\, songs\, rhymes\, a craft\, and more. A letter is featured each day to help familiarize children with the sights and sounds of the alphabet.
URL:https://library.sbcounty.gov/event/rialto-preschool-storytime-2/2026-06-04/
LOCATION:Rialto Branch Library\, 251 West 1st St.\, Rialto\, CA\, 92376\, United States
CATEGORIES:Library Beginners (0-5 years)
END:VEVENT
BEGIN:VEVENT
DTSTART;TZID=America/Los_Angeles:20260604T120000
DTEND;TZID=America/Los_Angeles:20260604T130000
DTSTAMP:20260420T223123
CREATED:20260225T212647Z
LAST-MODIFIED:20260225T212647Z
UID:10007134-1780574400-1780578000@library.sbcounty.gov
SUMMARY:Preschool Storytime
DESCRIPTION:Enjoy an engaging storytime geared toward the younger crowd featuring stories\, songs\, rhymes\, a craft\, and more. A letter is featured each day to help familiarize children with the sights and sounds of the alphabet.
URL:https://library.sbcounty.gov/event/highland-preschool-storytime-2/2026-06-04/
LOCATION:Highland Sam J. Racadio Library & Environmental Learning Center\, 7863 Central Ave.\, Highland\, CA\, 92346\, United States
CATEGORIES:Library Beginners (0-5 years)
END:VEVENT
BEGIN:VEVENT
DTSTART;TZID=America/Los_Angeles:20260604T123000
DTEND;TZID=America/Los_Angeles:20260604T133000
DTSTAMP:20260420T223123
CREATED:20260225T181003Z
LAST-MODIFIED:20260225T181003Z
UID:10006024-1780576200-1780579800@library.sbcounty.gov
SUMMARY:Toddler Bootcamp
DESCRIPTION:For the more active toddler\, this course includes high energy songs with lots of movement to inspire healthy physical activity in a fun and exciting way your child will love.
URL:https://library.sbcounty.gov/event/joshua-tree-toddler-bootcamp-2/2026-06-04/
LOCATION:Joshua Tree Branch Library\, 6465 Park Blvd.\, Joshua Tree\, CA\, 92252\, United States
CATEGORIES:Library Beginners (0-5 years)
END:VEVENT
BEGIN:VEVENT
DTSTART;TZID=America/Los_Angeles:20260604T153000
DTEND;TZID=America/Los_Angeles:20260604T163000
DTSTAMP:20260420T223123
CREATED:20260209T222504Z
LAST-MODIFIED:20260209T222505Z
UID:10002907-1780587000-1780590600@library.sbcounty.gov
SUMMARY:Learnology Lab
DESCRIPTION:Explore STEM (Science\, Technology\, Engineering\, and Mathematics) topics with fun hands-on projects. What will you discover about our awesome world?
URL:https://library.sbcounty.gov/event/phelan-learnology-lab/2026-06-04/
LOCATION:Phelan Memorial Library\, 9800 Clovis Road\, Phelan\, CA\, 92371\, United States
CATEGORIES:Kids Zone (6-11 years)
END:VEVENT
BEGIN:VEVENT
DTSTART;TZID=America/Los_Angeles:20260604T153000
DTEND;TZID=America/Los_Angeles:20260604T163000
DTSTAMP:20260420T223123
CREATED:20260218T233738Z
LAST-MODIFIED:20260218T233738Z
UID:10005019-1780587000-1780590600@library.sbcounty.gov
SUMMARY:Discover Art
DESCRIPTION:Learn about famous artists and exciting creative techniques in this hands-on program that highlights artistic movements\, media\, and skills.
URL:https://library.sbcounty.gov/event/rialto-discover-art/2026-06-04/
LOCATION:Rialto Branch Library\, 251 West 1st St.\, Rialto\, CA\, 92376\, United States
CATEGORIES:Kids Zone (6-11 years)
END:VEVENT
BEGIN:VEVENT
DTSTART;TZID=America/Los_Angeles:20260604T160000
DTEND;TZID=America/Los_Angeles:20260604T170000
DTSTAMP:20260420T223123
CREATED:20260203T213257Z
LAST-MODIFIED:20260204T171622Z
UID:10001737-1780588800-1780592400@library.sbcounty.gov
SUMMARY:Tails and Stories
DESCRIPTION:You won’t want to miss this wonderful program where you can practice your reading skills on nonjudgmental listeners: dogs! Therapy dogs will be at the library while you choose a book to read aloud\, and they love hearing stories.
URL:https://library.sbcounty.gov/event/big-bear-lake-tails-and-stories-2/2026-06-04/
LOCATION:Big Bear Lake Branch Library\, 41930 Garstin Dr\, Big Bear Lake\, CA\, 92315\, United States
CATEGORIES:Kids Zone (6-11 years)
END:VEVENT
BEGIN:VEVENT
DTSTART;TZID=America/Los_Angeles:20260604T160000
DTEND;TZID=America/Los_Angeles:20260604T170000
DTSTAMP:20260420T223123
CREATED:20260203T222621Z
LAST-MODIFIED:20260204T171553Z
UID:10001872-1780588800-1780592400@library.sbcounty.gov
SUMMARY:Craft Corner
DESCRIPTION:Create wonderful themed projects and learn new skills using all sorts of artistic supplies.
URL:https://library.sbcounty.gov/event/bloomington-craft-corner-2/2026-06-04/
LOCATION:Bloomington Branch Library\, 18028 Valley Blvd.\, Bloomington\, CA\, 92316\, United States
CATEGORIES:Kids Zone (6-11 years)
END:VEVENT
BEGIN:VEVENT
DTSTART;TZID=America/Los_Angeles:20260604T160000
DTEND;TZID=America/Los_Angeles:20260604T170000
DTSTAMP:20260420T223123
CREATED:20260209T190518Z
LAST-MODIFIED:20260209T190518Z
UID:10002592-1780588800-1780592400@library.sbcounty.gov
SUMMARY:Discover Art
DESCRIPTION:Learn about famous artists and exciting creative techniques in this hands-on program that highlights artistic movements\, media\, and skills.
URL:https://library.sbcounty.gov/event/lucerne-valley-discover-art/2026-06-04/
LOCATION:Lucerne Valley Janice Horst Branch Library\, 33103 Old Woman Springs Rd.\, Lucerne Valley\, CA\, 92356\, United States
CATEGORIES:Kids Zone (6-11 years)
END:VEVENT
BEGIN:VEVENT
DTSTART;TZID=America/Los_Angeles:20260604T160000
DTEND;TZID=America/Los_Angeles:20260604T170000
DTSTAMP:20260420T223123
CREATED:20260209T234759Z
LAST-MODIFIED:20260209T234759Z
UID:10003117-1780588800-1780592400@library.sbcounty.gov
SUMMARY:Threads
DESCRIPTION:Come and learn how to knit and crochet!
URL:https://library.sbcounty.gov/event/running-springs-threads-2/2026-06-04/
LOCATION:Running Springs Branch Library\, 2677 Whispering Pines Dr.\, Running Springs\, CA\, 92382\, United States
CATEGORIES:Adults (18+)
END:VEVENT
BEGIN:VEVENT
DTSTART;TZID=America/Los_Angeles:20260604T160000
DTEND;TZID=America/Los_Angeles:20260604T170000
DTSTAMP:20260420T223123
CREATED:20260210T174829Z
LAST-MODIFIED:20260210T202610Z
UID:10003402-1780588800-1780592400@library.sbcounty.gov
SUMMARY:Craft Corner
DESCRIPTION:Create wonderful themed projects and learn new skills using all sorts of artistic supplies.
URL:https://library.sbcounty.gov/event/twentynine-palms-craft-corner-2/2026-06-04/
LOCATION:Twentynine Palms Branch Library\, 6078 Adobe Rd.\, Twentynine Palms\, CA\, 92277\, United States
CATEGORIES:Kids Zone (6-11 years)
END:VEVENT
BEGIN:VEVENT
DTSTART;TZID=America/Los_Angeles:20260604T160000
DTEND;TZID=America/Los_Angeles:20260604T170000
DTSTAMP:20260420T223123
CREATED:20260210T215619Z
LAST-MODIFIED:20260210T215619Z
UID:10003912-1780588800-1780592400@library.sbcounty.gov
SUMMARY:Discover Art
DESCRIPTION:Learn about famous artists and exciting creative techniques in this hands-on program that highlights artistic movements\, media\, and skills.
URL:https://library.sbcounty.gov/event/chino-hills-discover-art-2/2026-06-04/
LOCATION:James S. Thalman Chino Hills Branch Library\, 14020 City Center Dr.\, Chino Hills\, CA\, 91709\, United States
CATEGORIES:Kids Zone (6-11 years)
END:VEVENT
BEGIN:VEVENT
DTSTART;TZID=America/Los_Angeles:20260604T160000
DTEND;TZID=America/Los_Angeles:20260604T170000
DTSTAMP:20260420T223123
CREATED:20260211T173651Z
LAST-MODIFIED:20260211T173651Z
UID:10004302-1780588800-1780592400@library.sbcounty.gov
SUMMARY:Tails and Stories
DESCRIPTION:You won’t want to miss this wonderful program where you can practice your reading skills on nonjudgmental listeners: dogs! Therapy dogs will be at the library while you choose a book to read aloud\, and they love hearing stories.
URL:https://library.sbcounty.gov/event/yucaipa-tails-and-stories-2/2026-06-04/
LOCATION:Yucaipa Branch Library\, 12040 5th St.\, Yucaipa\, CA\, 92399\, United States
CATEGORIES:Kids Zone (6-11 years)
END:VEVENT
BEGIN:VEVENT
DTSTART;TZID=America/Los_Angeles:20260604T160000
DTEND;TZID=America/Los_Angeles:20260604T170000
DTSTAMP:20260420T223123
CREATED:20260219T172711Z
LAST-MODIFIED:20260219T172711Z
UID:10005349-1780588800-1780592400@library.sbcounty.gov
SUMMARY:Discover Art
DESCRIPTION:Learn about famous artists and exciting creative techniques in this hands-on program that highlights artistic movements\, media\, and skills.
URL:https://library.sbcounty.gov/event/muscoy-discover-art-2/2026-06-04/
LOCATION:Muscoy Baker Family Learning Center\, 2818 Macy Street\, Muscoy\, CA\, 92407\, United States
CATEGORIES:Kids Zone (6-11 years)
END:VEVENT
BEGIN:VEVENT
DTSTART;TZID=America/Los_Angeles:20260604T160000
DTEND;TZID=America/Los_Angeles:20260604T170000
DTSTAMP:20260420T223123
CREATED:20260219T181052Z
LAST-MODIFIED:20260219T181052Z
UID:10005700-1780588800-1780592400@library.sbcounty.gov
SUMMARY:Discover Art
DESCRIPTION:Learn about famous artists and exciting creative techniques in this hands-on program that highlights artistic movements\, media\, and skills.
URL:https://library.sbcounty.gov/event/montclair-discover-art-2/2026-06-04/
LOCATION:Montclair Branch Library\, 9955 Fremont Ave.\, Montclair\, CA\, 91763\, United States
CATEGORIES:Kids Zone (6-11 years)
END:VEVENT
BEGIN:VEVENT
DTSTART;TZID=America/Los_Angeles:20260604T160000
DTEND;TZID=America/Los_Angeles:20260604T170000
DTSTAMP:20260420T223123
CREATED:20260225T205328Z
LAST-MODIFIED:20260225T205328Z
UID:10006828-1780588800-1780592400@library.sbcounty.gov
SUMMARY:Craft Corner
DESCRIPTION:Create wonderful themed projects and learn new skills using all sorts of artistic supplies.
URL:https://library.sbcounty.gov/event/barstow-craft-corner-2/2026-06-04/
LOCATION:Barstow Branch Library\, 304 E. Buena Vista St.\, Barstow\, CA\, 92311\, United States
CATEGORIES:Kids Zone (6-11 years)
END:VEVENT
BEGIN:VEVENT
DTSTART;TZID=America/Los_Angeles:20260604T160000
DTEND;TZID=America/Los_Angeles:20260604T170000
DTSTAMP:20260420T223123
CREATED:20260225T225234Z
LAST-MODIFIED:20260225T225234Z
UID:10007707-1780588800-1780592400@library.sbcounty.gov
SUMMARY:City of Fontana: Adventures in Art
DESCRIPTION:Create amazing works of art using different techniques and art supplies.
URL:https://library.sbcounty.gov/event/fontana-city-of-fontana-adventures-in-art-2/2026-06-04/
LOCATION:Fontana Lewis Library & Technology Center\, 8437 Sierra Avenue\, Fontana\, CA\, 92335\, United States
CATEGORIES:Kids Zone (6-11 years)
END:VEVENT
BEGIN:VEVENT
DTSTART;TZID=America/Los_Angeles:20260604T160000
DTEND;TZID=America/Los_Angeles:20260604T170000
DTSTAMP:20260420T223123
CREATED:20260226T000357Z
LAST-MODIFIED:20260226T000357Z
UID:10008154-1780588800-1780592400@library.sbcounty.gov
SUMMARY:Craft Corner
DESCRIPTION:Create wonderful themed projects and learn new skills using all sorts of artistic supplies.
URL:https://library.sbcounty.gov/event/hesperia-craft-corner/2026-06-04/
LOCATION:Hesperia Branch Library\, 9650 7th Ave.\, Hesperia\, CA\, 92345\, United States
CATEGORIES:Kids Zone (6-11 years)
END:VEVENT
BEGIN:VEVENT
DTSTART;TZID=America/Los_Angeles:20260604T163000
DTEND;TZID=America/Los_Angeles:20260604T173000
DTSTAMP:20260420T223123
CREATED:20260209T223733Z
LAST-MODIFIED:20260209T223733Z
UID:10002955-1780590600-1780594200@library.sbcounty.gov
SUMMARY:SRP Kickoff
DESCRIPTION:Welcome all to celebrate the start of the Summer Reading Program! Join us for crafts and fun to kick-off the summer at the library. Check out 15 items and take a far from home incentive.
URL:https://library.sbcounty.gov/event/phelan-srp-kickoff/
LOCATION:Phelan Memorial Library\, 9800 Clovis Road\, Phelan\, CA\, 92371\, United States
CATEGORIES:Families (all ages)
END:VEVENT
BEGIN:VEVENT
DTSTART;TZID=America/Los_Angeles:20260604T170000
DTEND;TZID=America/Los_Angeles:20260604T180000
DTSTAMP:20260420T223123
CREATED:20260225T230950Z
LAST-MODIFIED:20260225T230950Z
UID:10007803-1780592400-1780596000@library.sbcounty.gov
SUMMARY:Friends of the Library Meeting
DESCRIPTION:Friends of the Library board and committee members generally meet once a month to conduct business. If you are interested in volunteering to help support library programming and collections\, membership applications and brochures are available at your local branch.
URL:https://library.sbcounty.gov/event/fontana-friends-of-the-library-meeting-2/2026-06-04/
LOCATION:Fontana Lewis Library & Technology Center\, 8437 Sierra Avenue\, Fontana\, CA\, 92335\, United States
CATEGORIES:Adults (18+)
END:VEVENT
BEGIN:VEVENT
DTSTART;TZID=America/Los_Angeles:20260604T180000
DTEND;TZID=America/Los_Angeles:20260604T190000
DTSTAMP:20260420T223123
CREATED:20260204T185752Z
LAST-MODIFIED:20260204T185752Z
UID:10002010-1780596000-1780599600@library.sbcounty.gov
SUMMARY:Craft Corner
DESCRIPTION:Create wonderful themed projects and learn new skills using all sorts of artistic supplies.
URL:https://library.sbcounty.gov/event/cal-aero-preserve-craft-corner/2026-06-04/
LOCATION:Cal Aero Preserve Academy Branch Library\, 15850 Main Street\, Chino\, CA\, 91708\, United States
CATEGORIES:Kids Zone (6-11 years)
END:VEVENT
BEGIN:VEVENT
DTSTART;TZID=America/Los_Angeles:20260604T180000
DTEND;TZID=America/Los_Angeles:20260604T200000
DTSTAMP:20260420T223123
CREATED:20260225T225747Z
LAST-MODIFIED:20260227T170645Z
UID:10007725-1780596000-1780603200@library.sbcounty.gov
SUMMARY:Family Movie
DESCRIPTION:Visit the library for a family-friendly movie. Experience thrills\, chills\, and laughs with a beloved film – or discover a new favorite! \n\nMovie selection: Mulan
URL:https://library.sbcounty.gov/event/fontana-family-movie-12/
LOCATION:Fontana Lewis Library & Technology Center\, 8437 Sierra Avenue\, Fontana\, CA\, 92335\, United States
CATEGORIES:Families (all ages)
END:VEVENT
BEGIN:VEVENT
DTSTART;TZID=America/Los_Angeles:20260605T100000
DTEND;TZID=America/Los_Angeles:20260605T110000
DTSTAMP:20260420T223123
CREATED:20260210T215102Z
LAST-MODIFIED:20260210T215102Z
UID:10003858-1780653600-1780657200@library.sbcounty.gov
SUMMARY:Toddler Bootcamp
DESCRIPTION:For the more active toddler\, this course includes high energy songs with lots of movement to inspire healthy physical activity in a fun and exciting way your child will love.
URL:https://library.sbcounty.gov/event/chino-hills-toddler-bootcamp-4/2026-06-05/
LOCATION:James S. Thalman Chino Hills Branch Library\, 14020 City Center Dr.\, Chino Hills\, CA\, 91709\, United States
CATEGORIES:Library Beginners (0-5 years)
END:VEVENT
BEGIN:VEVENT
DTSTART;TZID=America/Los_Angeles:20260605T103000
DTEND;TZID=America/Los_Angeles:20260605T113000
DTSTAMP:20260420T223123
CREATED:20260211T172951Z
LAST-MODIFIED:20260211T172951Z
UID:10004266-1780655400-1780659000@library.sbcounty.gov
SUMMARY:Kids on the Move
DESCRIPTION:Jump\, clap\, shake\, and dance your way through this energetic class. Parents are encouraged to participate as we inspire a healthy model of physical activity in a fun and engaging way.
URL:https://library.sbcounty.gov/event/yucaipa-kids-on-the-move-2/2026-06-05/
LOCATION:Yucaipa Branch Library\, 12040 5th St.\, Yucaipa\, CA\, 92399\, United States
CATEGORIES:Library Beginners (0-5 years)
END:VEVENT
BEGIN:VEVENT
DTSTART;TZID=America/Los_Angeles:20260605T103000
DTEND;TZID=America/Los_Angeles:20260605T113000
DTSTAMP:20260420T223123
CREATED:20260225T202303Z
LAST-MODIFIED:20260225T202303Z
UID:10006639-1780655400-1780659000@library.sbcounty.gov
SUMMARY:Basic Computer Class
DESCRIPTION:Adults are invited to an introduction to common computer tasks\, from how to use a mouse and keyboard\, to basic typing\, internet\, and email functions.
URL:https://library.sbcounty.gov/event/chino-basic-computer-class-2/2026-06-05/
LOCATION:Chino Branch Library\, 13180 Central Ave.\, Chino\, CA\, 91710\, United States
CATEGORIES:Adults (18+)
END:VEVENT
BEGIN:VEVENT
DTSTART;TZID=America/Los_Angeles:20260605T110000
DTEND;TZID=America/Los_Angeles:20260605T120000
DTSTAMP:20260420T223123
CREATED:20260202T174138Z
LAST-MODIFIED:20260204T171528Z
UID:10001521-1780657200-1780660800@library.sbcounty.gov
SUMMARY:Little Artists
DESCRIPTION:Create fun\, sometimes messy\, art with your little one and guide their imagination by making a project together\, or let them steal the show with their own personal artistic style!
URL:https://library.sbcounty.gov/event/apple-valley-little-artists-2/2026-06-05/
LOCATION:Apple Valley Newton T. Bass Branch Library\, 14901 Dale Evans Parkway\, Apple Valley\, CA\, 92307\, United States
CATEGORIES:Library Beginners (0-5 years)
END:VEVENT
BEGIN:VEVENT
DTSTART;TZID=America/Los_Angeles:20260605T110000
DTEND;TZID=America/Los_Angeles:20260605T120000
DTSTAMP:20260420T223123
CREATED:20260219T180741Z
LAST-MODIFIED:20260219T180741Z
UID:10005646-1780657200-1780660800@library.sbcounty.gov
SUMMARY:Movers and Shakers
DESCRIPTION:Join in the fun as we enjoy great stories\, songs\, and props and learn a letter each day. Preschoolers will enjoy this engaging program that promotes literacy skills in an active way.
URL:https://library.sbcounty.gov/event/montclair-movers-and-shakers-2/2026-06-05/
LOCATION:Montclair Branch Library\, 9955 Fremont Ave.\, Montclair\, CA\, 91763\, United States
CATEGORIES:Library Beginners (0-5 years)
END:VEVENT
BEGIN:VEVENT
DTSTART;TZID=America/Los_Angeles:20260605T110000
DTEND;TZID=America/Los_Angeles:20260605T120000
DTSTAMP:20260420T223123
CREATED:20260225T224329Z
LAST-MODIFIED:20260225T224329Z
UID:10007623-1780657200-1780660800@library.sbcounty.gov
SUMMARY:Little Artists
DESCRIPTION:Create fun\, sometimes messy\, art with your little one and guide their imagination by making a project together\, or let them steal the show with their own personal artistic style!
URL:https://library.sbcounty.gov/event/fontana-little-artists-2/2026-06-05/
LOCATION:Fontana Lewis Library & Technology Center\, 8437 Sierra Avenue\, Fontana\, CA\, 92335\, United States
CATEGORIES:Library Beginners (0-5 years)
END:VEVENT
BEGIN:VEVENT
DTSTART;TZID=America/Los_Angeles:20260605T110000
DTEND;TZID=America/Los_Angeles:20260605T120000
DTSTAMP:20260420T223123
CREATED:20260225T230201Z
LAST-MODIFIED:20260225T230201Z
UID:10007794-1780657200-1780660800@library.sbcounty.gov
SUMMARY:Basic Computer Class
DESCRIPTION:Adults are invited to an introduction to common computer tasks\, from how to use a mouse and keyboard\, to basic typing\, internet\, and email functions.
URL:https://library.sbcounty.gov/event/fontana-basic-computer-class-2/2026-06-05/
LOCATION:Fontana Lewis Library & Technology Center\, 8437 Sierra Avenue\, Fontana\, CA\, 92335\, United States
CATEGORIES:Adults (18+)
END:VEVENT
END:VCALENDAR