BEGIN:VCALENDAR
VERSION:2.0
PRODID:-//Library - ECPv6.15.14//NONSGML v1.0//EN
CALSCALE:GREGORIAN
METHOD:PUBLISH
X-ORIGINAL-URL:https://library.sbcounty.gov
X-WR-CALDESC:Events for Library
REFRESH-INTERVAL;VALUE=DURATION:PT1H
X-Robots-Tag:noindex
X-PUBLISHED-TTL:PT1H
BEGIN:VTIMEZONE
TZID:America/Los_Angeles
BEGIN:DAYLIGHT
TZOFFSETFROM:-0800
TZOFFSETTO:-0700
TZNAME:PDT
DTSTART:20250309T100000
END:DAYLIGHT
BEGIN:STANDARD
TZOFFSETFROM:-0700
TZOFFSETTO:-0800
TZNAME:PST
DTSTART:20251102T090000
END:STANDARD
BEGIN:DAYLIGHT
TZOFFSETFROM:-0800
TZOFFSETTO:-0700
TZNAME:PDT
DTSTART:20260308T100000
END:DAYLIGHT
BEGIN:STANDARD
TZOFFSETFROM:-0700
TZOFFSETTO:-0800
TZNAME:PST
DTSTART:20261101T090000
END:STANDARD
BEGIN:DAYLIGHT
TZOFFSETFROM:-0800
TZOFFSETTO:-0700
TZNAME:PDT
DTSTART:20270314T100000
END:DAYLIGHT
BEGIN:STANDARD
TZOFFSETFROM:-0700
TZOFFSETTO:-0800
TZNAME:PST
DTSTART:20271107T090000
END:STANDARD
END:VTIMEZONE
BEGIN:VEVENT
DTSTART;TZID=America/Los_Angeles:20260604T170000
DTEND;TZID=America/Los_Angeles:20260604T180000
DTSTAMP:20260421T080848
CREATED:20260225T230950Z
LAST-MODIFIED:20260225T230950Z
UID:10007803-1780592400-1780596000@library.sbcounty.gov
SUMMARY:Friends of the Library Meeting
DESCRIPTION:Friends of the Library board and committee members generally meet once a month to conduct business. If you are interested in volunteering to help support library programming and collections\, membership applications and brochures are available at your local branch.
URL:https://library.sbcounty.gov/event/fontana-friends-of-the-library-meeting-2/2026-06-04/
LOCATION:Fontana Lewis Library & Technology Center\, 8437 Sierra Avenue\, Fontana\, CA\, 92335\, United States
CATEGORIES:Adults (18+)
END:VEVENT
BEGIN:VEVENT
DTSTART;TZID=America/Los_Angeles:20260604T180000
DTEND;TZID=America/Los_Angeles:20260604T190000
DTSTAMP:20260421T080848
CREATED:20260204T185752Z
LAST-MODIFIED:20260204T185752Z
UID:10002010-1780596000-1780599600@library.sbcounty.gov
SUMMARY:Craft Corner
DESCRIPTION:Create wonderful themed projects and learn new skills using all sorts of artistic supplies.
URL:https://library.sbcounty.gov/event/cal-aero-preserve-craft-corner/2026-06-04/
LOCATION:Cal Aero Preserve Academy Branch Library\, 15850 Main Street\, Chino\, CA\, 91708\, United States
CATEGORIES:Kids Zone (6-11 years)
END:VEVENT
BEGIN:VEVENT
DTSTART;TZID=America/Los_Angeles:20260604T180000
DTEND;TZID=America/Los_Angeles:20260604T200000
DTSTAMP:20260421T080848
CREATED:20260225T225747Z
LAST-MODIFIED:20260227T170645Z
UID:10007725-1780596000-1780603200@library.sbcounty.gov
SUMMARY:Family Movie
DESCRIPTION:Visit the library for a family-friendly movie. Experience thrills\, chills\, and laughs with a beloved film – or discover a new favorite! \n\nMovie selection: Mulan
URL:https://library.sbcounty.gov/event/fontana-family-movie-12/
LOCATION:Fontana Lewis Library & Technology Center\, 8437 Sierra Avenue\, Fontana\, CA\, 92335\, United States
CATEGORIES:Families (all ages)
END:VEVENT
BEGIN:VEVENT
DTSTART;TZID=America/Los_Angeles:20260605T100000
DTEND;TZID=America/Los_Angeles:20260605T110000
DTSTAMP:20260421T080848
CREATED:20260210T215102Z
LAST-MODIFIED:20260210T215102Z
UID:10003858-1780653600-1780657200@library.sbcounty.gov
SUMMARY:Toddler Bootcamp
DESCRIPTION:For the more active toddler\, this course includes high energy songs with lots of movement to inspire healthy physical activity in a fun and exciting way your child will love.
URL:https://library.sbcounty.gov/event/chino-hills-toddler-bootcamp-4/2026-06-05/
LOCATION:James S. Thalman Chino Hills Branch Library\, 14020 City Center Dr.\, Chino Hills\, CA\, 91709\, United States
CATEGORIES:Library Beginners (0-5 years)
END:VEVENT
BEGIN:VEVENT
DTSTART;TZID=America/Los_Angeles:20260605T103000
DTEND;TZID=America/Los_Angeles:20260605T113000
DTSTAMP:20260421T080848
CREATED:20260211T172951Z
LAST-MODIFIED:20260211T172951Z
UID:10004266-1780655400-1780659000@library.sbcounty.gov
SUMMARY:Kids on the Move
DESCRIPTION:Jump\, clap\, shake\, and dance your way through this energetic class. Parents are encouraged to participate as we inspire a healthy model of physical activity in a fun and engaging way.
URL:https://library.sbcounty.gov/event/yucaipa-kids-on-the-move-2/2026-06-05/
LOCATION:Yucaipa Branch Library\, 12040 5th St.\, Yucaipa\, CA\, 92399\, United States
CATEGORIES:Library Beginners (0-5 years)
END:VEVENT
BEGIN:VEVENT
DTSTART;TZID=America/Los_Angeles:20260605T103000
DTEND;TZID=America/Los_Angeles:20260605T113000
DTSTAMP:20260421T080848
CREATED:20260225T202303Z
LAST-MODIFIED:20260225T202303Z
UID:10006639-1780655400-1780659000@library.sbcounty.gov
SUMMARY:Basic Computer Class
DESCRIPTION:Adults are invited to an introduction to common computer tasks\, from how to use a mouse and keyboard\, to basic typing\, internet\, and email functions.
URL:https://library.sbcounty.gov/event/chino-basic-computer-class-2/2026-06-05/
LOCATION:Chino Branch Library\, 13180 Central Ave.\, Chino\, CA\, 91710\, United States
CATEGORIES:Adults (18+)
END:VEVENT
BEGIN:VEVENT
DTSTART;TZID=America/Los_Angeles:20260605T110000
DTEND;TZID=America/Los_Angeles:20260605T120000
DTSTAMP:20260421T080848
CREATED:20260202T174138Z
LAST-MODIFIED:20260204T171528Z
UID:10001521-1780657200-1780660800@library.sbcounty.gov
SUMMARY:Little Artists
DESCRIPTION:Create fun\, sometimes messy\, art with your little one and guide their imagination by making a project together\, or let them steal the show with their own personal artistic style!
URL:https://library.sbcounty.gov/event/apple-valley-little-artists-2/2026-06-05/
LOCATION:Apple Valley Newton T. Bass Branch Library\, 14901 Dale Evans Parkway\, Apple Valley\, CA\, 92307\, United States
CATEGORIES:Library Beginners (0-5 years)
END:VEVENT
BEGIN:VEVENT
DTSTART;TZID=America/Los_Angeles:20260605T110000
DTEND;TZID=America/Los_Angeles:20260605T120000
DTSTAMP:20260421T080848
CREATED:20260219T180741Z
LAST-MODIFIED:20260219T180741Z
UID:10005646-1780657200-1780660800@library.sbcounty.gov
SUMMARY:Movers and Shakers
DESCRIPTION:Join in the fun as we enjoy great stories\, songs\, and props and learn a letter each day. Preschoolers will enjoy this engaging program that promotes literacy skills in an active way.
URL:https://library.sbcounty.gov/event/montclair-movers-and-shakers-2/2026-06-05/
LOCATION:Montclair Branch Library\, 9955 Fremont Ave.\, Montclair\, CA\, 91763\, United States
CATEGORIES:Library Beginners (0-5 years)
END:VEVENT
BEGIN:VEVENT
DTSTART;TZID=America/Los_Angeles:20260605T110000
DTEND;TZID=America/Los_Angeles:20260605T120000
DTSTAMP:20260421T080848
CREATED:20260225T224329Z
LAST-MODIFIED:20260225T224329Z
UID:10007623-1780657200-1780660800@library.sbcounty.gov
SUMMARY:Little Artists
DESCRIPTION:Create fun\, sometimes messy\, art with your little one and guide their imagination by making a project together\, or let them steal the show with their own personal artistic style!
URL:https://library.sbcounty.gov/event/fontana-little-artists-2/2026-06-05/
LOCATION:Fontana Lewis Library & Technology Center\, 8437 Sierra Avenue\, Fontana\, CA\, 92335\, United States
CATEGORIES:Library Beginners (0-5 years)
END:VEVENT
BEGIN:VEVENT
DTSTART;TZID=America/Los_Angeles:20260605T110000
DTEND;TZID=America/Los_Angeles:20260605T120000
DTSTAMP:20260421T080848
CREATED:20260225T230201Z
LAST-MODIFIED:20260225T230201Z
UID:10007794-1780657200-1780660800@library.sbcounty.gov
SUMMARY:Basic Computer Class
DESCRIPTION:Adults are invited to an introduction to common computer tasks\, from how to use a mouse and keyboard\, to basic typing\, internet\, and email functions.
URL:https://library.sbcounty.gov/event/fontana-basic-computer-class-2/2026-06-05/
LOCATION:Fontana Lewis Library & Technology Center\, 8437 Sierra Avenue\, Fontana\, CA\, 92335\, United States
CATEGORIES:Adults (18+)
END:VEVENT
BEGIN:VEVENT
DTSTART;TZID=America/Los_Angeles:20260605T140000
DTEND;TZID=America/Los_Angeles:20260605T150000
DTSTAMP:20260421T080848
CREATED:20260211T173801Z
LAST-MODIFIED:20260211T173801Z
UID:10004320-1780668000-1780671600@library.sbcounty.gov
SUMMARY:BRICreations
DESCRIPTION:If you can imagine it\, you can build it! Assemble cool LEGO projects as a group or individually.
URL:https://library.sbcounty.gov/event/yucaipa-bricreations-2/2026-06-05/
LOCATION:Yucaipa Branch Library\, 12040 5th St.\, Yucaipa\, CA\, 92399\, United States
CATEGORIES:Kids Zone (6-11 years)
END:VEVENT
BEGIN:VEVENT
DTSTART;TZID=America/Los_Angeles:20260605T150000
DTEND;TZID=America/Los_Angeles:20260605T160000
DTSTAMP:20260421T080848
CREATED:20260225T201807Z
LAST-MODIFIED:20260225T201807Z
UID:10006570-1780671600-1780675200@library.sbcounty.gov
SUMMARY:Little Artists
DESCRIPTION:Create fun\, sometimes messy\, art with your little one and guide their imagination by making a project together\, or let them steal the show with their own personal artistic style!
URL:https://library.sbcounty.gov/event/chino-little-artists/2026-06-05/
LOCATION:Chino Branch Library\, 13180 Central Ave.\, Chino\, CA\, 91710\, United States
CATEGORIES:Library Beginners (0-5 years)
END:VEVENT
BEGIN:VEVENT
DTSTART;TZID=America/Los_Angeles:20260605T160000
DTEND;TZID=America/Los_Angeles:20260605T170000
DTSTAMP:20260421T080848
CREATED:20260210T215854Z
LAST-MODIFIED:20260210T215854Z
UID:10003930-1780675200-1780678800@library.sbcounty.gov
SUMMARY:Tails and Stories
DESCRIPTION:You won’t want to miss this wonderful program where you can practice your reading skills on nonjudgmental listeners: dogs! Therapy dogs will be at the library while you choose a book to read aloud\, and they love hearing stories.
URL:https://library.sbcounty.gov/event/chino-hills-tails-and-stories-2/2026-06-05/
LOCATION:James S. Thalman Chino Hills Branch Library\, 14020 City Center Dr.\, Chino Hills\, CA\, 91709\, United States
CATEGORIES:Kids Zone (6-11 years)
END:VEVENT
BEGIN:VEVENT
DTSTART;TZID=America/Los_Angeles:20260605T160000
DTEND;TZID=America/Los_Angeles:20260605T170000
DTSTAMP:20260421T080848
CREATED:20260211T173917Z
LAST-MODIFIED:20260211T180504Z
UID:10004338-1780675200-1780678800@library.sbcounty.gov
SUMMARY:Family Game Time
DESCRIPTION:Enjoy the fun and challenge of playing a variety of board games while making some new friends.
URL:https://library.sbcounty.gov/event/yucaipa-family-game-time-2/2026-06-05/
LOCATION:Yucaipa Branch Library\, 12040 5th St.\, Yucaipa\, CA\, 92399\, United States
CATEGORIES:Families (all ages)
END:VEVENT
BEGIN:VEVENT
DTSTART;TZID=America/Los_Angeles:20260605T160000
DTEND;TZID=America/Los_Angeles:20260605T170000
DTSTAMP:20260421T080848
CREATED:20260225T212940Z
LAST-MODIFIED:20260225T212940Z
UID:10007188-1780675200-1780678800@library.sbcounty.gov
SUMMARY:Wild Readers
DESCRIPTION:Come read to the wild side! Wild Readers invites children to build reading confidence in a relaxed and fun environment. Kids can choose a book and read aloud to our Environmental Learning Center animal residents\, from furry to feathered to scaled\, who provide the perfect quiet and supportive audience.
URL:https://library.sbcounty.gov/event/highland-wild-readers-2/2026-06-05/
LOCATION:Highland Sam J. Racadio Library & Environmental Learning Center\, 7863 Central Ave.\, Highland\, CA\, 92346\, United States
CATEGORIES:Kids Zone (6-11 years)
END:VEVENT
BEGIN:VEVENT
DTSTART;TZID=America/Los_Angeles:20260605T160000
DTEND;TZID=America/Los_Angeles:20260605T170000
DTSTAMP:20260421T080848
CREATED:20260225T225857Z
LAST-MODIFIED:20260225T225857Z
UID:10007743-1780675200-1780678800@library.sbcounty.gov
SUMMARY:Learnology Lab
DESCRIPTION:Explore STEM (Science\, Technology\, Engineering\, and Mathematics) topics with fun hands-on projects. What will you discover about our awesome world?
URL:https://library.sbcounty.gov/event/fontana-learnology-lab-2/2026-06-05/
LOCATION:Fontana Lewis Library & Technology Center\, 8437 Sierra Avenue\, Fontana\, CA\, 92335\, United States
CATEGORIES:Kids Zone (6-11 years)
END:VEVENT
BEGIN:VEVENT
DTSTART;TZID=America/Los_Angeles:20260606T090000
DTEND;TZID=America/Los_Angeles:20260606T100000
DTSTAMP:20260421T080848
CREATED:20260226T201527Z
LAST-MODIFIED:20260226T201837Z
UID:10008331-1780736400-1780740000@library.sbcounty.gov
SUMMARY:Chair Exercise
DESCRIPTION:Join us and exercise while seated in a chair (with DVD instruction).
URL:https://library.sbcounty.gov/event/mentone-senior-center-chair-exercise/2026-06-06/
LOCATION:Mentone Senior Center\, 1331 Opal Ave.\, Mentone\, CA\, 92359\, United States
CATEGORIES:Seniors (65+)
END:VEVENT
BEGIN:VEVENT
DTSTART;TZID=America/Los_Angeles:20260606T090000
DTEND;TZID=America/Los_Angeles:20260606T100000
DTSTAMP:20260421T080848
CREATED:20260226T201743Z
LAST-MODIFIED:20260226T201743Z
UID:10008292-1780736400-1780740000@library.sbcounty.gov
SUMMARY:Walking 4 Wellness
DESCRIPTION:Walk with us on our 0.25 mile track outside of the Senior Center and Library!
URL:https://library.sbcounty.gov/event/mentone-senior-center-walking-4-wellness/2026-06-06/
LOCATION:Mentone Senior Center\, 1331 Opal Ave.\, Mentone\, CA\, 92359\, United States
CATEGORIES:Seniors (65+)
END:VEVENT
BEGIN:VEVENT
DTSTART;TZID=America/Los_Angeles:20260606T090000
DTEND;TZID=America/Los_Angeles:20260606T130000
DTSTAMP:20260421T080848
CREATED:20260209T163733Z
LAST-MODIFIED:20260209T163733Z
UID:10002172-1780736400-1780750800@library.sbcounty.gov
SUMMARY:Friends of the Library Book Sale
DESCRIPTION:All funds raised by the Friends of the Library Book Sale are invested back into the local branch library to better serve the community.
URL:https://library.sbcounty.gov/event/grand-terrace-friends-of-the-library-book-sale/
LOCATION:Grand Terrace Branch Library\, 22795 Barton Rd.\, Grand Terrace\, CA\, 92313\, United States
CATEGORIES:Adults (18+)
END:VEVENT
BEGIN:VEVENT
DTSTART;TZID=America/Los_Angeles:20260606T090000
DTEND;TZID=America/Los_Angeles:20260606T170000
DTSTAMP:20260421T080848
CREATED:20260211T174332Z
LAST-MODIFIED:20260211T174332Z
UID:10004350-1780736400-1780765200@library.sbcounty.gov
SUMMARY:Friends of the Library Book Sale
DESCRIPTION:All funds raised by the Friends of the Library Book Sale are invested back into the local branch library to better serve the community.
URL:https://library.sbcounty.gov/event/yucaipa-friends-of-the-library-book-sale-2/2026-06-06/
LOCATION:Yucaipa Branch Library\, 12040 5th St.\, Yucaipa\, CA\, 92399\, United States
CATEGORIES:Adults (18+)
END:VEVENT
BEGIN:VEVENT
DTSTART;TZID=America/Los_Angeles:20260606T100000
DTEND;TZID=America/Los_Angeles:20260606T110000
DTSTAMP:20260421T080848
CREATED:20260210T215210Z
LAST-MODIFIED:20260210T234534Z
UID:10003969-1780740000-1780743600@library.sbcounty.gov
SUMMARY:Totally Toddlers
DESCRIPTION:Your toddler will love this program as we use interactive songs\, activities\, books\, and fun crafts to develop letter recognition and socialization skills.
URL:https://library.sbcounty.gov/event/chino-hills-totally-toddlers-2/2026-06-06/
LOCATION:James S. Thalman Chino Hills Branch Library\, 14020 City Center Dr.\, Chino Hills\, CA\, 91709\, United States
CATEGORIES:Library Beginners (0-5 years)
END:VEVENT
BEGIN:VEVENT
DTSTART;TZID=America/Los_Angeles:20260606T100000
DTEND;TZID=America/Los_Angeles:20260606T140000
DTSTAMP:20260421T080848
CREATED:20260209T235044Z
LAST-MODIFIED:20260209T235044Z
UID:10003123-1780740000-1780754400@library.sbcounty.gov
SUMMARY:June SRP Kick Off Special Event
DESCRIPTION:
URL:https://library.sbcounty.gov/event/running-springs-june-srp-kick-off-special-event/
LOCATION:Running Springs Branch Library\, 2677 Whispering Pines Dr.\, Running Springs\, CA\, 92382\, United States
CATEGORIES:Families (all ages)
END:VEVENT
BEGIN:VEVENT
DTSTART;TZID=America/Los_Angeles:20260606T103000
DTEND;TZID=America/Los_Angeles:20260606T113000
DTSTAMP:20260421T080848
CREATED:20260225T202407Z
LAST-MODIFIED:20260225T202407Z
UID:10006657-1780741800-1780745400@library.sbcounty.gov
SUMMARY:Basic Internet Class
DESCRIPTION:This adult computer course focuses on how to do internet searches\, fill out digital forms\, and online safety tips.
URL:https://library.sbcounty.gov/event/chino-basic-internet-class-2/2026-06-06/
LOCATION:Chino Branch Library\, 13180 Central Ave.\, Chino\, CA\, 91710\, United States
CATEGORIES:Adults (18+)
END:VEVENT
BEGIN:VEVENT
DTSTART;TZID=America/Los_Angeles:20260606T110000
DTEND;TZID=America/Los_Angeles:20260606T120000
DTSTAMP:20260421T080848
CREATED:20260225T201913Z
LAST-MODIFIED:20260225T201913Z
UID:10006588-1780743600-1780747200@library.sbcounty.gov
SUMMARY:Totally Toddlers
DESCRIPTION:Your toddler will love this program as we use interactive songs\, activities\, books\, and fun crafts to develop letter recognition and socialization skills.
URL:https://library.sbcounty.gov/event/chino-totally-toddlers/2026-06-06/
LOCATION:Chino Branch Library\, 13180 Central Ave.\, Chino\, CA\, 91710\, United States
CATEGORIES:Library Beginners (0-5 years)
END:VEVENT
BEGIN:VEVENT
DTSTART;TZID=America/Los_Angeles:20260606T110000
DTEND;TZID=America/Los_Angeles:20260606T120000
DTSTAMP:20260421T080848
CREATED:20260226T000506Z
LAST-MODIFIED:20260226T000506Z
UID:10008160-1780743600-1780747200@library.sbcounty.gov
SUMMARY:Tails and Stories
DESCRIPTION:You won’t want to miss this wonderful program where you can practice your reading skills on nonjudgmental listeners: dogs! Therapy dogs will be at the library while you choose a book to read aloud\, and they love hearing stories.
URL:https://library.sbcounty.gov/event/hesperia-tails-and-stories-2/2026-06-06/
LOCATION:Hesperia Branch Library\, 9650 7th Ave.\, Hesperia\, CA\, 92345\, United States
CATEGORIES:Kids Zone (6-11 years)
END:VEVENT
BEGIN:VEVENT
DTSTART;TZID=America/Los_Angeles:20260606T120000
DTEND;TZID=America/Los_Angeles:20260606T130000
DTSTAMP:20260421T080848
CREATED:20260226T202025Z
LAST-MODIFIED:20260226T202025Z
UID:10008382-1780747200-1780750800@library.sbcounty.gov
SUMMARY:Golden Gamers
DESCRIPTION:Come and join us to socialize and play various board games at the Senior Center!
URL:https://library.sbcounty.gov/event/mentone-senior-center-golden-gamers/2026-06-06/
LOCATION:Mentone Senior Center\, 1331 Opal Ave.\, Mentone\, CA\, 92359\, United States
CATEGORIES:Seniors (65+)
END:VEVENT
BEGIN:VEVENT
DTSTART;TZID=America/Los_Angeles:20260606T130000
DTEND;TZID=America/Los_Angeles:20260606T140000
DTSTAMP:20260421T080848
CREATED:20260203T224404Z
LAST-MODIFIED:20260204T171458Z
UID:10001890-1780750800-1780754400@library.sbcounty.gov
SUMMARY:Family Game Time
DESCRIPTION:Enjoy the fun and challenge of playing a variety of board games while making some new friends.
URL:https://library.sbcounty.gov/event/bloomington-family-game-time/2026-06-06/
LOCATION:Bloomington Branch Library\, 18028 Valley Blvd.\, Bloomington\, CA\, 92316\, United States
CATEGORIES:Families (all ages)
END:VEVENT
BEGIN:VEVENT
DTSTART;TZID=America/Los_Angeles:20260606T130000
DTEND;TZID=America/Los_Angeles:20260606T140000
DTSTAMP:20260421T080848
CREATED:20260225T205539Z
LAST-MODIFIED:20260225T205539Z
UID:10006864-1780750800-1780754400@library.sbcounty.gov
SUMMARY:Discover Art
DESCRIPTION:Learn about famous artists and exciting creative techniques in this hands-on program that highlights artistic movements\, media\, and skills.
URL:https://library.sbcounty.gov/event/barstow-discover-art-2/2026-06-06/
LOCATION:Barstow Branch Library\, 304 E. Buena Vista St.\, Barstow\, CA\, 92311\, United States
CATEGORIES:Kids Zone (6-11 years)
END:VEVENT
BEGIN:VEVENT
DTSTART;TZID=America/Los_Angeles:20260606T130000
DTEND;TZID=America/Los_Angeles:20260606T150000
DTSTAMP:20260421T080848
CREATED:20260211T174942Z
LAST-MODIFIED:20260211T174942Z
UID:10004362-1780750800-1780758000@library.sbcounty.gov
SUMMARY:SRP Kickoff!
DESCRIPTION:Bring the whole family for an exciting time as we kick off SRP 2026! You’ll get an early start to earning fabulous prizes all summer long\, and enjoy a special\, one-time-show-only performance! Check out 15 items and receive a free shaved Ice treat from Kona Ice. Enjoy crafts\, games\, and fun prizes. We can’t wait to see you here!
URL:https://library.sbcounty.gov/event/yucaipa-srp-kickoff/
LOCATION:Yucaipa Branch Library\, 12040 5th St.\, Yucaipa\, CA\, 92399\, United States
CATEGORIES:Families (all ages)
END:VEVENT
BEGIN:VEVENT
DTSTART;TZID=America/Los_Angeles:20260606T130000
DTEND;TZID=America/Los_Angeles:20260606T150000
DTSTAMP:20260421T080848
CREATED:20260218T214004Z
LAST-MODIFIED:20260218T214004Z
UID:10004611-1780750800-1780758000@library.sbcounty.gov
SUMMARY:SRP Kickoff Event
DESCRIPTION:School is out\, so let’s all cheer\, the Summer Reading Program is finally here! Join us for the kickoff and a chance to play…
URL:https://library.sbcounty.gov/event/yucca-valley-srp-kickoff-event/
LOCATION:Yucca Valley Branch Library\, 57271 29 Palms Highway\, Yucca Valley\, 92284\, United States
CATEGORIES:Families (all ages)
END:VEVENT
END:VCALENDAR