BEGIN:VCALENDAR
VERSION:2.0
PRODID:-//Library - ECPv6.15.14//NONSGML v1.0//EN
CALSCALE:GREGORIAN
METHOD:PUBLISH
X-WR-CALNAME:Library
X-ORIGINAL-URL:https://library.sbcounty.gov
X-WR-CALDESC:Events for Library
REFRESH-INTERVAL;VALUE=DURATION:PT1H
X-Robots-Tag:noindex
X-PUBLISHED-TTL:PT1H
BEGIN:VTIMEZONE
TZID:America/Los_Angeles
BEGIN:DAYLIGHT
TZOFFSETFROM:-0800
TZOFFSETTO:-0700
TZNAME:PDT
DTSTART:20250309T100000
END:DAYLIGHT
BEGIN:STANDARD
TZOFFSETFROM:-0700
TZOFFSETTO:-0800
TZNAME:PST
DTSTART:20251102T090000
END:STANDARD
BEGIN:DAYLIGHT
TZOFFSETFROM:-0800
TZOFFSETTO:-0700
TZNAME:PDT
DTSTART:20260308T100000
END:DAYLIGHT
BEGIN:STANDARD
TZOFFSETFROM:-0700
TZOFFSETTO:-0800
TZNAME:PST
DTSTART:20261101T090000
END:STANDARD
BEGIN:DAYLIGHT
TZOFFSETFROM:-0800
TZOFFSETTO:-0700
TZNAME:PDT
DTSTART:20270314T100000
END:DAYLIGHT
BEGIN:STANDARD
TZOFFSETFROM:-0700
TZOFFSETTO:-0800
TZNAME:PST
DTSTART:20271107T090000
END:STANDARD
END:VTIMEZONE
BEGIN:VEVENT
DTSTART;TZID=America/Los_Angeles:20260430T160000
DTEND;TZID=America/Los_Angeles:20260430T170000
DTSTAMP:20260421T153519
CREATED:20260203T222621Z
LAST-MODIFIED:20260204T171553Z
UID:10001857-1777564800-1777568400@library.sbcounty.gov
SUMMARY:Craft Corner
DESCRIPTION:Create wonderful themed projects and learn new skills using all sorts of artistic supplies.
URL:https://library.sbcounty.gov/event/bloomington-craft-corner-2/2026-04-30/
LOCATION:Bloomington Branch Library\, 18028 Valley Blvd.\, Bloomington\, CA\, 92316\, United States
CATEGORIES:Kids Zone (6-11 years)
END:VEVENT
BEGIN:VEVENT
DTSTART;TZID=America/Los_Angeles:20260430T160000
DTEND;TZID=America/Los_Angeles:20260430T170000
DTSTAMP:20260421T153519
CREATED:20260209T190518Z
LAST-MODIFIED:20260209T190518Z
UID:10002577-1777564800-1777568400@library.sbcounty.gov
SUMMARY:Discover Art
DESCRIPTION:Learn about famous artists and exciting creative techniques in this hands-on program that highlights artistic movements\, media\, and skills.
URL:https://library.sbcounty.gov/event/lucerne-valley-discover-art/2026-04-30/
LOCATION:Lucerne Valley Janice Horst Branch Library\, 33103 Old Woman Springs Rd.\, Lucerne Valley\, CA\, 92356\, United States
CATEGORIES:Kids Zone (6-11 years)
END:VEVENT
BEGIN:VEVENT
DTSTART;TZID=America/Los_Angeles:20260430T160000
DTEND;TZID=America/Los_Angeles:20260430T170000
DTSTAMP:20260421T153519
CREATED:20260209T234759Z
LAST-MODIFIED:20260209T234759Z
UID:10003102-1777564800-1777568400@library.sbcounty.gov
SUMMARY:Threads
DESCRIPTION:Come and learn how to knit and crochet!
URL:https://library.sbcounty.gov/event/running-springs-threads-2/2026-04-30/
LOCATION:Running Springs Branch Library\, 2677 Whispering Pines Dr.\, Running Springs\, CA\, 92382\, United States
CATEGORIES:Adults (18+)
END:VEVENT
BEGIN:VEVENT
DTSTART;TZID=America/Los_Angeles:20260430T160000
DTEND;TZID=America/Los_Angeles:20260430T170000
DTSTAMP:20260421T153519
CREATED:20260210T174829Z
LAST-MODIFIED:20260210T202610Z
UID:10003372-1777564800-1777568400@library.sbcounty.gov
SUMMARY:Craft Corner
DESCRIPTION:Create wonderful themed projects and learn new skills using all sorts of artistic supplies.
URL:https://library.sbcounty.gov/event/twentynine-palms-craft-corner-2/2026-04-30/
LOCATION:Twentynine Palms Branch Library\, 6078 Adobe Rd.\, Twentynine Palms\, CA\, 92277\, United States
CATEGORIES:Kids Zone (6-11 years)
END:VEVENT
BEGIN:VEVENT
DTSTART;TZID=America/Los_Angeles:20260430T160000
DTEND;TZID=America/Los_Angeles:20260430T170000
DTSTAMP:20260421T153519
CREATED:20260210T215619Z
LAST-MODIFIED:20260210T215619Z
UID:10003897-1777564800-1777568400@library.sbcounty.gov
SUMMARY:Discover Art
DESCRIPTION:Learn about famous artists and exciting creative techniques in this hands-on program that highlights artistic movements\, media\, and skills.
URL:https://library.sbcounty.gov/event/chino-hills-discover-art-2/2026-04-30/
LOCATION:James S. Thalman Chino Hills Branch Library\, 14020 City Center Dr.\, Chino Hills\, CA\, 91709\, United States
CATEGORIES:Kids Zone (6-11 years)
END:VEVENT
BEGIN:VEVENT
DTSTART;TZID=America/Los_Angeles:20260430T160000
DTEND;TZID=America/Los_Angeles:20260430T170000
DTSTAMP:20260421T153519
CREATED:20260211T173651Z
LAST-MODIFIED:20260211T173651Z
UID:10004287-1777564800-1777568400@library.sbcounty.gov
SUMMARY:Tails and Stories
DESCRIPTION:You won’t want to miss this wonderful program where you can practice your reading skills on nonjudgmental listeners: dogs! Therapy dogs will be at the library while you choose a book to read aloud\, and they love hearing stories.
URL:https://library.sbcounty.gov/event/yucaipa-tails-and-stories-2/2026-04-30/
LOCATION:Yucaipa Branch Library\, 12040 5th St.\, Yucaipa\, CA\, 92399\, United States
CATEGORIES:Kids Zone (6-11 years)
END:VEVENT
BEGIN:VEVENT
DTSTART;TZID=America/Los_Angeles:20260430T160000
DTEND;TZID=America/Los_Angeles:20260430T170000
DTSTAMP:20260421T153519
CREATED:20260219T172711Z
LAST-MODIFIED:20260219T172711Z
UID:10005334-1777564800-1777568400@library.sbcounty.gov
SUMMARY:Discover Art
DESCRIPTION:Learn about famous artists and exciting creative techniques in this hands-on program that highlights artistic movements\, media\, and skills.
URL:https://library.sbcounty.gov/event/muscoy-discover-art-2/2026-04-30/
LOCATION:Muscoy Baker Family Learning Center\, 2818 Macy Street\, Muscoy\, CA\, 92407\, United States
CATEGORIES:Kids Zone (6-11 years)
END:VEVENT
BEGIN:VEVENT
DTSTART;TZID=America/Los_Angeles:20260430T160000
DTEND;TZID=America/Los_Angeles:20260430T170000
DTSTAMP:20260421T153519
CREATED:20260219T181052Z
LAST-MODIFIED:20260219T181052Z
UID:10005685-1777564800-1777568400@library.sbcounty.gov
SUMMARY:Discover Art
DESCRIPTION:Learn about famous artists and exciting creative techniques in this hands-on program that highlights artistic movements\, media\, and skills.
URL:https://library.sbcounty.gov/event/montclair-discover-art-2/2026-04-30/
LOCATION:Montclair Branch Library\, 9955 Fremont Ave.\, Montclair\, CA\, 91763\, United States
CATEGORIES:Kids Zone (6-11 years)
END:VEVENT
BEGIN:VEVENT
DTSTART;TZID=America/Los_Angeles:20260430T160000
DTEND;TZID=America/Los_Angeles:20260430T170000
DTSTAMP:20260421T153519
CREATED:20260225T205328Z
LAST-MODIFIED:20260225T205328Z
UID:10006813-1777564800-1777568400@library.sbcounty.gov
SUMMARY:Craft Corner
DESCRIPTION:Create wonderful themed projects and learn new skills using all sorts of artistic supplies.
URL:https://library.sbcounty.gov/event/barstow-craft-corner-2/2026-04-30/
LOCATION:Barstow Branch Library\, 304 E. Buena Vista St.\, Barstow\, CA\, 92311\, United States
CATEGORIES:Kids Zone (6-11 years)
END:VEVENT
BEGIN:VEVENT
DTSTART;TZID=America/Los_Angeles:20260430T160000
DTEND;TZID=America/Los_Angeles:20260430T170000
DTSTAMP:20260421T153519
CREATED:20260225T225234Z
LAST-MODIFIED:20260225T225234Z
UID:10007692-1777564800-1777568400@library.sbcounty.gov
SUMMARY:City of Fontana: Adventures in Art
DESCRIPTION:Create amazing works of art using different techniques and art supplies.
URL:https://library.sbcounty.gov/event/fontana-city-of-fontana-adventures-in-art-2/2026-04-30/
LOCATION:Fontana Lewis Library & Technology Center\, 8437 Sierra Avenue\, Fontana\, CA\, 92335\, United States
CATEGORIES:Kids Zone (6-11 years)
END:VEVENT
BEGIN:VEVENT
DTSTART;TZID=America/Los_Angeles:20260430T160000
DTEND;TZID=America/Los_Angeles:20260430T170000
DTSTAMP:20260421T153519
CREATED:20260226T000357Z
LAST-MODIFIED:20260226T000357Z
UID:10008139-1777564800-1777568400@library.sbcounty.gov
SUMMARY:Craft Corner
DESCRIPTION:Create wonderful themed projects and learn new skills using all sorts of artistic supplies.
URL:https://library.sbcounty.gov/event/hesperia-craft-corner/2026-04-30/
LOCATION:Hesperia Branch Library\, 9650 7th Ave.\, Hesperia\, CA\, 92345\, United States
CATEGORIES:Kids Zone (6-11 years)
END:VEVENT
BEGIN:VEVENT
DTSTART;TZID=America/Los_Angeles:20260430T180000
DTEND;TZID=America/Los_Angeles:20260430T190000
DTSTAMP:20260421T153519
CREATED:20260204T185752Z
LAST-MODIFIED:20260204T185752Z
UID:10001995-1777572000-1777575600@library.sbcounty.gov
SUMMARY:Craft Corner
DESCRIPTION:Create wonderful themed projects and learn new skills using all sorts of artistic supplies.
URL:https://library.sbcounty.gov/event/cal-aero-preserve-craft-corner/2026-04-30/
LOCATION:Cal Aero Preserve Academy Branch Library\, 15850 Main Street\, Chino\, CA\, 91708\, United States
CATEGORIES:Kids Zone (6-11 years)
END:VEVENT
BEGIN:VEVENT
DTSTART;TZID=America/Los_Angeles:20260430T180000
DTEND;TZID=America/Los_Angeles:20260430T200000
DTSTAMP:20260421T153519
CREATED:20260225T225343Z
LAST-MODIFIED:20260227T170747Z
UID:10007710-1777572000-1777579200@library.sbcounty.gov
SUMMARY:Family Movie
DESCRIPTION:Visit the library for a family-friendly movie. Experience thrills\, chills\, and laughs with a beloved film – or discover a new favorite! \n\nMovie selection: Aladdin
URL:https://library.sbcounty.gov/event/fontana-family-movie-7/
LOCATION:Fontana Lewis Library & Technology Center\, 8437 Sierra Avenue\, Fontana\, CA\, 92335\, United States
CATEGORIES:Families (all ages)
END:VEVENT
BEGIN:VEVENT
DTSTART;TZID=America/Los_Angeles:20260501T100000
DTEND;TZID=America/Los_Angeles:20260501T110000
DTSTAMP:20260421T153519
CREATED:20260210T215102Z
LAST-MODIFIED:20260210T215102Z
UID:10003843-1777629600-1777633200@library.sbcounty.gov
SUMMARY:Toddler Bootcamp
DESCRIPTION:For the more active toddler\, this course includes high energy songs with lots of movement to inspire healthy physical activity in a fun and exciting way your child will love.
URL:https://library.sbcounty.gov/event/chino-hills-toddler-bootcamp-4/2026-05-01/
LOCATION:James S. Thalman Chino Hills Branch Library\, 14020 City Center Dr.\, Chino Hills\, CA\, 91709\, United States
CATEGORIES:Library Beginners (0-5 years)
END:VEVENT
BEGIN:VEVENT
DTSTART;TZID=America/Los_Angeles:20260501T103000
DTEND;TZID=America/Los_Angeles:20260501T113000
DTSTAMP:20260421T153519
CREATED:20260211T172951Z
LAST-MODIFIED:20260211T172951Z
UID:10004251-1777631400-1777635000@library.sbcounty.gov
SUMMARY:Kids on the Move
DESCRIPTION:Jump\, clap\, shake\, and dance your way through this energetic class. Parents are encouraged to participate as we inspire a healthy model of physical activity in a fun and engaging way.
URL:https://library.sbcounty.gov/event/yucaipa-kids-on-the-move-2/2026-05-01/
LOCATION:Yucaipa Branch Library\, 12040 5th St.\, Yucaipa\, CA\, 92399\, United States
CATEGORIES:Library Beginners (0-5 years)
END:VEVENT
BEGIN:VEVENT
DTSTART;TZID=America/Los_Angeles:20260501T103000
DTEND;TZID=America/Los_Angeles:20260501T113000
DTSTAMP:20260421T153519
CREATED:20260225T202303Z
LAST-MODIFIED:20260225T202303Z
UID:10006624-1777631400-1777635000@library.sbcounty.gov
SUMMARY:Basic Computer Class
DESCRIPTION:Adults are invited to an introduction to common computer tasks\, from how to use a mouse and keyboard\, to basic typing\, internet\, and email functions.
URL:https://library.sbcounty.gov/event/chino-basic-computer-class-2/2026-05-01/
LOCATION:Chino Branch Library\, 13180 Central Ave.\, Chino\, CA\, 91710\, United States
CATEGORIES:Adults (18+)
END:VEVENT
BEGIN:VEVENT
DTSTART;TZID=America/Los_Angeles:20260501T110000
DTEND;TZID=America/Los_Angeles:20260501T120000
DTSTAMP:20260421T153519
CREATED:20260202T174138Z
LAST-MODIFIED:20260204T171528Z
UID:10001506-1777633200-1777636800@library.sbcounty.gov
SUMMARY:Little Artists
DESCRIPTION:Create fun\, sometimes messy\, art with your little one and guide their imagination by making a project together\, or let them steal the show with their own personal artistic style!
URL:https://library.sbcounty.gov/event/apple-valley-little-artists-2/2026-05-01/
LOCATION:Apple Valley Newton T. Bass Branch Library\, 14901 Dale Evans Parkway\, Apple Valley\, CA\, 92307\, United States
CATEGORIES:Library Beginners (0-5 years)
END:VEVENT
BEGIN:VEVENT
DTSTART;TZID=America/Los_Angeles:20260501T110000
DTEND;TZID=America/Los_Angeles:20260501T120000
DTSTAMP:20260421T153519
CREATED:20260219T180741Z
LAST-MODIFIED:20260219T180741Z
UID:10005631-1777633200-1777636800@library.sbcounty.gov
SUMMARY:Movers and Shakers
DESCRIPTION:Join in the fun as we enjoy great stories\, songs\, and props and learn a letter each day. Preschoolers will enjoy this engaging program that promotes literacy skills in an active way.
URL:https://library.sbcounty.gov/event/montclair-movers-and-shakers-2/2026-05-01/
LOCATION:Montclair Branch Library\, 9955 Fremont Ave.\, Montclair\, CA\, 91763\, United States
CATEGORIES:Library Beginners (0-5 years)
END:VEVENT
BEGIN:VEVENT
DTSTART;TZID=America/Los_Angeles:20260501T110000
DTEND;TZID=America/Los_Angeles:20260501T120000
DTSTAMP:20260421T153519
CREATED:20260225T224329Z
LAST-MODIFIED:20260225T224329Z
UID:10007608-1777633200-1777636800@library.sbcounty.gov
SUMMARY:Little Artists
DESCRIPTION:Create fun\, sometimes messy\, art with your little one and guide their imagination by making a project together\, or let them steal the show with their own personal artistic style!
URL:https://library.sbcounty.gov/event/fontana-little-artists-2/2026-05-01/
LOCATION:Fontana Lewis Library & Technology Center\, 8437 Sierra Avenue\, Fontana\, CA\, 92335\, United States
CATEGORIES:Library Beginners (0-5 years)
END:VEVENT
BEGIN:VEVENT
DTSTART;TZID=America/Los_Angeles:20260501T110000
DTEND;TZID=America/Los_Angeles:20260501T120000
DTSTAMP:20260421T153519
CREATED:20260225T230201Z
LAST-MODIFIED:20260225T230201Z
UID:10007779-1777633200-1777636800@library.sbcounty.gov
SUMMARY:Basic Computer Class
DESCRIPTION:Adults are invited to an introduction to common computer tasks\, from how to use a mouse and keyboard\, to basic typing\, internet\, and email functions.
URL:https://library.sbcounty.gov/event/fontana-basic-computer-class-2/2026-05-01/
LOCATION:Fontana Lewis Library & Technology Center\, 8437 Sierra Avenue\, Fontana\, CA\, 92335\, United States
CATEGORIES:Adults (18+)
END:VEVENT
BEGIN:VEVENT
DTSTART;TZID=America/Los_Angeles:20260501T140000
DTEND;TZID=America/Los_Angeles:20260501T150000
DTSTAMP:20260421T153519
CREATED:20260211T173801Z
LAST-MODIFIED:20260211T173801Z
UID:10004305-1777644000-1777647600@library.sbcounty.gov
SUMMARY:BRICreations
DESCRIPTION:If you can imagine it\, you can build it! Assemble cool LEGO projects as a group or individually.
URL:https://library.sbcounty.gov/event/yucaipa-bricreations-2/2026-05-01/
LOCATION:Yucaipa Branch Library\, 12040 5th St.\, Yucaipa\, CA\, 92399\, United States
CATEGORIES:Kids Zone (6-11 years)
END:VEVENT
BEGIN:VEVENT
DTSTART;TZID=America/Los_Angeles:20260501T150000
DTEND;TZID=America/Los_Angeles:20260501T160000
DTSTAMP:20260421T153519
CREATED:20260225T201807Z
LAST-MODIFIED:20260225T201807Z
UID:10006555-1777647600-1777651200@library.sbcounty.gov
SUMMARY:Little Artists
DESCRIPTION:Create fun\, sometimes messy\, art with your little one and guide their imagination by making a project together\, or let them steal the show with their own personal artistic style!
URL:https://library.sbcounty.gov/event/chino-little-artists/2026-05-01/
LOCATION:Chino Branch Library\, 13180 Central Ave.\, Chino\, CA\, 91710\, United States
CATEGORIES:Library Beginners (0-5 years)
END:VEVENT
BEGIN:VEVENT
DTSTART;TZID=America/Los_Angeles:20260501T160000
DTEND;TZID=America/Los_Angeles:20260501T170000
DTSTAMP:20260421T153519
CREATED:20260210T215738Z
LAST-MODIFIED:20260210T215738Z
UID:10003915-1777651200-1777654800@library.sbcounty.gov
SUMMARY:Family Game Time
DESCRIPTION:Enjoy the fun and challenge of playing a variety of board games while making some new friends.
URL:https://library.sbcounty.gov/event/chino-hills-family-game-time-2/2026-05-01/
LOCATION:James S. Thalman Chino Hills Branch Library\, 14020 City Center Dr.\, Chino Hills\, CA\, 91709\, United States
CATEGORIES:Families (all ages)
END:VEVENT
BEGIN:VEVENT
DTSTART;TZID=America/Los_Angeles:20260501T160000
DTEND;TZID=America/Los_Angeles:20260501T170000
DTSTAMP:20260421T153519
CREATED:20260211T173917Z
LAST-MODIFIED:20260211T180504Z
UID:10004323-1777651200-1777654800@library.sbcounty.gov
SUMMARY:Family Game Time
DESCRIPTION:Enjoy the fun and challenge of playing a variety of board games while making some new friends.
URL:https://library.sbcounty.gov/event/yucaipa-family-game-time-2/2026-05-01/
LOCATION:Yucaipa Branch Library\, 12040 5th St.\, Yucaipa\, CA\, 92399\, United States
CATEGORIES:Families (all ages)
END:VEVENT
BEGIN:VEVENT
DTSTART;TZID=America/Los_Angeles:20260501T160000
DTEND;TZID=America/Los_Angeles:20260501T170000
DTSTAMP:20260421T153519
CREATED:20260225T212940Z
LAST-MODIFIED:20260225T212940Z
UID:10007173-1777651200-1777654800@library.sbcounty.gov
SUMMARY:Wild Readers
DESCRIPTION:Come read to the wild side! Wild Readers invites children to build reading confidence in a relaxed and fun environment. Kids can choose a book and read aloud to our Environmental Learning Center animal residents\, from furry to feathered to scaled\, who provide the perfect quiet and supportive audience.
URL:https://library.sbcounty.gov/event/highland-wild-readers-2/2026-05-01/
LOCATION:Highland Sam J. Racadio Library & Environmental Learning Center\, 7863 Central Ave.\, Highland\, CA\, 92346\, United States
CATEGORIES:Kids Zone (6-11 years)
END:VEVENT
BEGIN:VEVENT
DTSTART;TZID=America/Los_Angeles:20260501T160000
DTEND;TZID=America/Los_Angeles:20260501T170000
DTSTAMP:20260421T153519
CREATED:20260225T225857Z
LAST-MODIFIED:20260225T225857Z
UID:10007728-1777651200-1777654800@library.sbcounty.gov
SUMMARY:Learnology Lab
DESCRIPTION:Explore STEM (Science\, Technology\, Engineering\, and Mathematics) topics with fun hands-on projects. What will you discover about our awesome world?
URL:https://library.sbcounty.gov/event/fontana-learnology-lab-2/2026-05-01/
LOCATION:Fontana Lewis Library & Technology Center\, 8437 Sierra Avenue\, Fontana\, CA\, 92335\, United States
CATEGORIES:Kids Zone (6-11 years)
END:VEVENT
BEGIN:VEVENT
DTSTART;TZID=America/Los_Angeles:20260502T090000
DTEND;TZID=America/Los_Angeles:20260502T100000
DTSTAMP:20260421T153519
CREATED:20260226T201527Z
LAST-MODIFIED:20260226T201837Z
UID:10008316-1777712400-1777716000@library.sbcounty.gov
SUMMARY:Chair Exercise
DESCRIPTION:Join us and exercise while seated in a chair (with DVD instruction).
URL:https://library.sbcounty.gov/event/mentone-senior-center-chair-exercise/2026-05-02/
LOCATION:Mentone Senior Center\, 1331 Opal Ave.\, Mentone\, CA\, 92359\, United States
CATEGORIES:Seniors (65+)
END:VEVENT
BEGIN:VEVENT
DTSTART;TZID=America/Los_Angeles:20260502T090000
DTEND;TZID=America/Los_Angeles:20260502T100000
DTSTAMP:20260421T153519
CREATED:20260226T201743Z
LAST-MODIFIED:20260226T201743Z
UID:10008277-1777712400-1777716000@library.sbcounty.gov
SUMMARY:Walking 4 Wellness
DESCRIPTION:Walk with us on our 0.25 mile track outside of the Senior Center and Library!
URL:https://library.sbcounty.gov/event/mentone-senior-center-walking-4-wellness/2026-05-02/
LOCATION:Mentone Senior Center\, 1331 Opal Ave.\, Mentone\, CA\, 92359\, United States
CATEGORIES:Seniors (65+)
END:VEVENT
BEGIN:VEVENT
DTSTART;TZID=America/Los_Angeles:20260502T090000
DTEND;TZID=America/Los_Angeles:20260502T170000
DTSTAMP:20260421T153519
CREATED:20260211T174332Z
LAST-MODIFIED:20260211T174332Z
UID:10004347-1777712400-1777741200@library.sbcounty.gov
SUMMARY:Friends of the Library Book Sale
DESCRIPTION:All funds raised by the Friends of the Library Book Sale are invested back into the local branch library to better serve the community.
URL:https://library.sbcounty.gov/event/yucaipa-friends-of-the-library-book-sale-2/2026-05-02/
LOCATION:Yucaipa Branch Library\, 12040 5th St.\, Yucaipa\, CA\, 92399\, United States
CATEGORIES:Adults (18+)
END:VEVENT
BEGIN:VEVENT
DTSTART;TZID=America/Los_Angeles:20260502T100000
DTEND;TZID=America/Los_Angeles:20260502T110000
DTSTAMP:20260421T153519
CREATED:20260210T215210Z
LAST-MODIFIED:20260210T234534Z
UID:10003861-1777716000-1777719600@library.sbcounty.gov
SUMMARY:Totally Toddlers
DESCRIPTION:Your toddler will love this program as we use interactive songs\, activities\, books\, and fun crafts to develop letter recognition and socialization skills.
URL:https://library.sbcounty.gov/event/chino-hills-totally-toddlers-2/2026-05-02/
LOCATION:James S. Thalman Chino Hills Branch Library\, 14020 City Center Dr.\, Chino Hills\, CA\, 91709\, United States
CATEGORIES:Library Beginners (0-5 years)
END:VEVENT
END:VCALENDAR