BEGIN:VCALENDAR
VERSION:2.0
PRODID:-//Library - ECPv6.15.14//NONSGML v1.0//EN
CALSCALE:GREGORIAN
METHOD:PUBLISH
X-WR-CALNAME:Library
X-ORIGINAL-URL:https://library.sbcounty.gov
X-WR-CALDESC:Events for Library
REFRESH-INTERVAL;VALUE=DURATION:PT1H
X-Robots-Tag:noindex
X-PUBLISHED-TTL:PT1H
BEGIN:VTIMEZONE
TZID:America/Los_Angeles
BEGIN:DAYLIGHT
TZOFFSETFROM:-0800
TZOFFSETTO:-0700
TZNAME:PDT
DTSTART:20250309T100000
END:DAYLIGHT
BEGIN:STANDARD
TZOFFSETFROM:-0700
TZOFFSETTO:-0800
TZNAME:PST
DTSTART:20251102T090000
END:STANDARD
BEGIN:DAYLIGHT
TZOFFSETFROM:-0800
TZOFFSETTO:-0700
TZNAME:PDT
DTSTART:20260308T100000
END:DAYLIGHT
BEGIN:STANDARD
TZOFFSETFROM:-0700
TZOFFSETTO:-0800
TZNAME:PST
DTSTART:20261101T090000
END:STANDARD
BEGIN:DAYLIGHT
TZOFFSETFROM:-0800
TZOFFSETTO:-0700
TZNAME:PDT
DTSTART:20270314T100000
END:DAYLIGHT
BEGIN:STANDARD
TZOFFSETFROM:-0700
TZOFFSETTO:-0800
TZNAME:PST
DTSTART:20271107T090000
END:STANDARD
END:VTIMEZONE
BEGIN:VEVENT
DTSTART;TZID=America/Los_Angeles:20260606T150000
DTEND;TZID=America/Los_Angeles:20260606T160000
DTSTAMP:20260422T001346
CREATED:20260218T213724Z
LAST-MODIFIED:20260218T213724Z
UID:10004590-1780758000-1780761600@library.sbcounty.gov
SUMMARY:Family Game Time
DESCRIPTION:Enjoy the fun and challenge of playing a variety of board games while making some new friends.
URL:https://library.sbcounty.gov/event/yucca-valley-family-game-time-2/2026-06-06/
LOCATION:Yucca Valley Branch Library\, 57271 29 Palms Highway\, Yucca Valley\, 92284\, United States
CATEGORIES:Families (all ages)
END:VEVENT
BEGIN:VEVENT
DTSTART;TZID=America/Los_Angeles:20260608T090000
DTEND;TZID=America/Los_Angeles:20260608T100000
DTSTAMP:20260422T001346
CREATED:20260226T202246Z
LAST-MODIFIED:20260226T202246Z
UID:10008433-1780909200-1780912800@library.sbcounty.gov
SUMMARY:Chair Exercise
DESCRIPTION:Exercise in a chair along with chair exercise (DVD instruction)
URL:https://library.sbcounty.gov/event/mentone-senior-center-chair-exercise-2/2026-06-08/
LOCATION:Mentone Senior Center\, 1331 Opal Ave.\, Mentone\, CA\, 92359\, United States
CATEGORIES:Seniors (65+)
END:VEVENT
BEGIN:VEVENT
DTSTART;TZID=America/Los_Angeles:20260608T090000
DTEND;TZID=America/Los_Angeles:20260608T100000
DTSTAMP:20260422T001346
CREATED:20260226T202529Z
LAST-MODIFIED:20260226T202529Z
UID:10008484-1780909200-1780912800@library.sbcounty.gov
SUMMARY:Walking 4 Wellness
DESCRIPTION:Walk with us on our 0.25 mile track outside of the Senior Center and Library!
URL:https://library.sbcounty.gov/event/mentone-senior-center-walking-4-wellness-2/2026-06-08/
LOCATION:Mentone Senior Center\, 1331 Opal Ave.\, Mentone\, CA\, 92359\, United States
CATEGORIES:Seniors (65+)
END:VEVENT
BEGIN:VEVENT
DTSTART;TZID=America/Los_Angeles:20260608T123000
DTEND;TZID=America/Los_Angeles:20260608T143000
DTSTAMP:20260422T001346
CREATED:20260210T180016Z
LAST-MODIFIED:20260210T180016Z
UID:10003450-1780921800-1780929000@library.sbcounty.gov
SUMMARY:SRP Kickoff
DESCRIPTION:Get ready for an unforgettable summer at the library! Our Summer Reading Program is packed with exciting adventures\, cool prizes\, and fun for all ages. Read books\, complete challenges\, and join us for crafts\, storytime and special performances. Whether you’re a little reader or a lifelong book lover\, there’s something awesome waiting for you!
URL:https://library.sbcounty.gov/event/twentynine-palms-srp-kickoff/
LOCATION:Twentynine Palms Branch Library\, 6078 Adobe Rd.\, Twentynine Palms\, CA\, 92277\, United States
CATEGORIES:Families (all ages)
END:VEVENT
BEGIN:VEVENT
DTSTART;TZID=America/Los_Angeles:20260608T130000
DTEND;TZID=America/Los_Angeles:20260608T150000
DTSTAMP:20260422T001346
CREATED:20260226T211734Z
LAST-MODIFIED:20260227T171044Z
UID:10009072-1780923600-1780930800@library.sbcounty.gov
SUMMARY:Monday Movie
DESCRIPTION:Come enjoy a viewing of our Monday movie! \n\nMovie selection: Meet the Fockers (2004)
URL:https://library.sbcounty.gov/event/mentone-senior-center-monday-movie-14/
LOCATION:Mentone Senior Center\, 1331 Opal Ave.\, Mentone\, CA\, 92359\, United States
CATEGORIES:Seniors (65+)
END:VEVENT
BEGIN:VEVENT
DTSTART;TZID=America/Los_Angeles:20260608T150000
DTEND;TZID=America/Los_Angeles:20260608T180000
DTSTAMP:20260422T001346
CREATED:20260210T220321Z
LAST-MODIFIED:20260210T220321Z
UID:10003954-1780930800-1780941600@library.sbcounty.gov
SUMMARY:SRP Kick-Off Event
DESCRIPTION:Dive into a summer full of stories\, adventures\, and imagination with our Summer Reading Program! Whether you’re flipping through picture books\, graphic novels\, or epic tales\, there’s something for every reader. Earn prizes\, join fun activities\, and discover new favorites\, all while keeping your reading skills sharp. Let’s make this summer one for the books!
URL:https://library.sbcounty.gov/event/chino-hills-srp-kick-off-event/
LOCATION:James S. Thalman Chino Hills Branch Library\, 14020 City Center Dr.\, Chino Hills\, CA\, 91709\, United States
CATEGORIES:Families (all ages)
END:VEVENT
BEGIN:VEVENT
DTSTART;TZID=America/Los_Angeles:20260608T150000
DTEND;TZID=America/Los_Angeles:20260608T190000
DTSTAMP:20260422T001346
CREATED:20260209T164149Z
LAST-MODIFIED:20260209T164149Z
UID:10002181-1780930800-1780945200@library.sbcounty.gov
SUMMARY:2026 Summer Reading Program Kickoff!
DESCRIPTION:Join the fun and sign up for super Summer Reading Rewards! Make a cool kids’ craft\, enjoy fun games + earn a special incentive with 15 item checkout!
URL:https://library.sbcounty.gov/event/grand-terrace-2026-summer-reading-program-kickoff/
LOCATION:Grand Terrace Branch Library\, 22795 Barton Rd.\, Grand Terrace\, CA\, 92313\, United States
CATEGORIES:Families (all ages)
END:VEVENT
BEGIN:VEVENT
DTSTART;TZID=America/Los_Angeles:20260608T160000
DTEND;TZID=America/Los_Angeles:20260608T190000
DTSTAMP:20260422T001346
CREATED:20260225T231206Z
LAST-MODIFIED:20260225T231206Z
UID:10007806-1780934400-1780945200@library.sbcounty.gov
SUMMARY:SRP Kick Off
DESCRIPTION:
URL:https://library.sbcounty.gov/event/fontana-srp-kick-off/
LOCATION:Fontana Lewis Library & Technology Center\, 8437 Sierra Avenue\, Fontana\, CA\, 92335\, United States
CATEGORIES:Families (all ages)
END:VEVENT
BEGIN:VEVENT
DTSTART;TZID=America/Los_Angeles:20260608T163000
DTEND;TZID=America/Los_Angeles:20260608T183000
DTSTAMP:20260422T001346
CREATED:20260226T001324Z
LAST-MODIFIED:20260226T001324Z
UID:10008238-1780936200-1780943400@library.sbcounty.gov
SUMMARY:SRP Kick-Off
DESCRIPTION:Join the library’s ultimate Kick-Off bash! Face painting\, balloon twisting\, music\, crafts\, games\, and prizes-fun for everyone! All ages welcome!
URL:https://library.sbcounty.gov/event/hesperia-srp-kick-off/
LOCATION:Hesperia Branch Library\, 9650 7th Ave.\, Hesperia\, CA\, 92345\, United States
CATEGORIES:Families (all ages)
END:VEVENT
BEGIN:VEVENT
DTSTART;TZID=America/Los_Angeles:20260609T090000
DTEND;TZID=America/Los_Angeles:20260609T100000
DTSTAMP:20260422T001346
CREATED:20260226T203316Z
LAST-MODIFIED:20260226T203316Z
UID:10008553-1780995600-1780999200@library.sbcounty.gov
SUMMARY:Chair Exercise
DESCRIPTION:Exercise in a chair along with chair exercise (DVD instruction)
URL:https://library.sbcounty.gov/event/mentone-senior-center-chair-exercise-3/2026-06-09/
LOCATION:Mentone Senior Center\, 1331 Opal Ave.\, Mentone\, CA\, 92359\, United States
CATEGORIES:Seniors (65+)
END:VEVENT
BEGIN:VEVENT
DTSTART;TZID=America/Los_Angeles:20260609T090000
DTEND;TZID=America/Los_Angeles:20260609T100000
DTSTAMP:20260422T001346
CREATED:20260226T203452Z
LAST-MODIFIED:20260226T203452Z
UID:10008607-1780995600-1780999200@library.sbcounty.gov
SUMMARY:Walking 4 Wellness
DESCRIPTION:Walk with us on our 0.25 mile track outside of the Senior Center and Library!
URL:https://library.sbcounty.gov/event/mentone-senior-center-walking-4-wellness-3/2026-06-09/
LOCATION:Mentone Senior Center\, 1331 Opal Ave.\, Mentone\, CA\, 92359\, United States
CATEGORIES:Seniors (65+)
END:VEVENT
BEGIN:VEVENT
DTSTART;TZID=America/Los_Angeles:20260609T103000
DTEND;TZID=America/Los_Angeles:20260609T110000
DTSTAMP:20260422T001346
CREATED:20260226T203635Z
LAST-MODIFIED:20260226T203635Z
UID:10008661-1781001000-1781002800@library.sbcounty.gov
SUMMARY:Special Strong
DESCRIPTION:30 minute chair exercises for senior adults with special needs
URL:https://library.sbcounty.gov/event/mentone-senior-center-special-strong/2026-06-09/
LOCATION:Mentone Senior Center\, 1331 Opal Ave.\, Mentone\, CA\, 92359\, United States
CATEGORIES:Seniors (65+)
END:VEVENT
BEGIN:VEVENT
DTSTART;TZID=America/Los_Angeles:20260610T090000
DTEND;TZID=America/Los_Angeles:20260610T100000
DTSTAMP:20260422T001346
CREATED:20260226T203739Z
LAST-MODIFIED:20260226T203739Z
UID:10008715-1781082000-1781085600@library.sbcounty.gov
SUMMARY:Chair Exercise
DESCRIPTION:Exercise in a chair along with chair exercise (DVD instruction)
URL:https://library.sbcounty.gov/event/mentone-senior-center-chair-exercise-4/2026-06-10/
LOCATION:Mentone Senior Center\, 1331 Opal Ave.\, Mentone\, CA\, 92359\, United States
CATEGORIES:Seniors (65+)
END:VEVENT
BEGIN:VEVENT
DTSTART;TZID=America/Los_Angeles:20260610T090000
DTEND;TZID=America/Los_Angeles:20260610T100000
DTSTAMP:20260422T001346
CREATED:20260226T203927Z
LAST-MODIFIED:20260226T203927Z
UID:10008766-1781082000-1781085600@library.sbcounty.gov
SUMMARY:Walking 4 Wellness
DESCRIPTION:Walk with us on our 0.25 mile track outside of the Senior Center and Library!
URL:https://library.sbcounty.gov/event/mentone-senior-center-walking-4-wellness-4/2026-06-10/
LOCATION:Mentone Senior Center\, 1331 Opal Ave.\, Mentone\, CA\, 92359\, United States
CATEGORIES:Seniors (65+)
END:VEVENT
BEGIN:VEVENT
DTSTART;TZID=America/Los_Angeles:20260610T120000
DTEND;TZID=America/Los_Angeles:20260610T140000
DTSTAMP:20260422T001346
CREATED:20260226T212149Z
LAST-MODIFIED:20260226T212149Z
UID:10009084-1781092800-1781100000@library.sbcounty.gov
SUMMARY:Country Karaoke Party
DESCRIPTION:
URL:https://library.sbcounty.gov/event/mentone-senior-center-country-karaoke-party/
LOCATION:Mentone Senior Center\, 1331 Opal Ave.\, Mentone\, CA\, 92359\, United States
CATEGORIES:Seniors (65+)
END:VEVENT
BEGIN:VEVENT
DTSTART;TZID=America/Los_Angeles:20260610T130000
DTEND;TZID=America/Los_Angeles:20260610T140000
DTSTAMP:20260422T001346
CREATED:20260225T163639Z
LAST-MODIFIED:20260225T163639Z
UID:10005922-1781096400-1781100000@library.sbcounty.gov
SUMMARY:Friends of the Library Meeting
DESCRIPTION:Friends of the Library board and committee members generally meet once a month to conduct business. If you are interested in volunteering to help support library programming and collections\, membership applications and brochures are available at your local branch.
URL:https://library.sbcounty.gov/event/lake-arrowhead-friends-of-the-library-meeting-2/2026-06-10/
LOCATION:Lake Arrowhead Branch Library\, 27235 Highway 189\, Bluejay\, CA\, 92317\, United States
CATEGORIES:Adults (18+)
END:VEVENT
BEGIN:VEVENT
DTSTART;TZID=America/Los_Angeles:20260610T150000
DTEND;TZID=America/Los_Angeles:20260610T170000
DTSTAMP:20260422T001346
CREATED:20260203T224603Z
LAST-MODIFIED:20260204T170815Z
UID:10001896-1781103600-1781110800@library.sbcounty.gov
SUMMARY:SRP Kick-Off Event
DESCRIPTION:Join us as we kick-off the summer season with games\, crafts\, giveaways and a special incentive for checking out 15 items during the event. Start your summer the right way by signing up for the Summer Reading Program and earn weekly rewards just for reading!
URL:https://library.sbcounty.gov/event/bloomington-srp-kick-off-event/
LOCATION:Bloomington Branch Library\, 18028 Valley Blvd.\, Bloomington\, CA\, 92316\, United States
CATEGORIES:Families (all ages)
END:VEVENT
BEGIN:VEVENT
DTSTART;TZID=America/Los_Angeles:20260610T160000
DTEND;TZID=America/Los_Angeles:20260610T180000
DTSTAMP:20260422T001346
CREATED:20260225T213637Z
LAST-MODIFIED:20260225T213637Z
UID:10007266-1781107200-1781114400@library.sbcounty.gov
SUMMARY:SRP Kickoff Event
DESCRIPTION:Join us for a fun filled afternoon with Balloon artists\, face painting\, giveaways\, and exciting activities. Check out 15 items during the event to get a fun incentive and be entered into an opportunity drawing! Its an event you won’t want to miss!
URL:https://library.sbcounty.gov/event/highland-srp-kickoff-event/
LOCATION:Highland Sam J. Racadio Library & Environmental Learning Center\, 7863 Central Ave.\, Highland\, CA\, 92346\, United States
CATEGORIES:Families (all ages)
END:VEVENT
BEGIN:VEVENT
DTSTART;TZID=America/Los_Angeles:20260611T083000
DTEND;TZID=America/Los_Angeles:20260611T090000
DTSTAMP:20260422T001346
CREATED:20260226T204405Z
LAST-MODIFIED:20260226T204405Z
UID:10008817-1781166600-1781168400@library.sbcounty.gov
SUMMARY:Senior Breakfast
DESCRIPTION:Join us for our senior breakfast to eat and socialize!
URL:https://library.sbcounty.gov/event/mentone-senior-center-senior-breakfast/2026-06-11/
LOCATION:Mentone Senior Center\, 1331 Opal Ave.\, Mentone\, CA\, 92359\, United States
CATEGORIES:Seniors (65+)
END:VEVENT
BEGIN:VEVENT
DTSTART;TZID=America/Los_Angeles:20260611T090000
DTEND;TZID=America/Los_Angeles:20260611T100000
DTSTAMP:20260422T001346
CREATED:20260226T204552Z
LAST-MODIFIED:20260226T204552Z
UID:10008868-1781168400-1781172000@library.sbcounty.gov
SUMMARY:Chair Yoga
DESCRIPTION:Join us for a series of gentle physical exercises and stretches that will calm your mind and strengthen your body! (DVD instruction)
URL:https://library.sbcounty.gov/event/mentone-senior-center-chair-yoga/2026-06-11/
LOCATION:Mentone Senior Center\, 1331 Opal Ave.\, Mentone\, CA\, 92359\, United States
CATEGORIES:Seniors (65+)
END:VEVENT
BEGIN:VEVENT
DTSTART;TZID=America/Los_Angeles:20260611T090000
DTEND;TZID=America/Los_Angeles:20260611T100000
DTSTAMP:20260422T001346
CREATED:20260226T204655Z
LAST-MODIFIED:20260226T204655Z
UID:10008919-1781168400-1781172000@library.sbcounty.gov
SUMMARY:Walking 4 Wellness
DESCRIPTION:Walk with us on our 0.25 mile track outside of the Senior Center and Library!
URL:https://library.sbcounty.gov/event/mentone-senior-center-walking-4-wellness-5/2026-06-11/
LOCATION:Mentone Senior Center\, 1331 Opal Ave.\, Mentone\, CA\, 92359\, United States
CATEGORIES:Seniors (65+)
END:VEVENT
BEGIN:VEVENT
DTSTART;TZID=America/Los_Angeles:20260611T101500
DTEND;TZID=America/Los_Angeles:20260611T110000
DTSTAMP:20260422T001346
CREATED:20260226T204902Z
LAST-MODIFIED:20260226T204902Z
UID:10008970-1781172900-1781175600@library.sbcounty.gov
SUMMARY:Hula for Health
DESCRIPTION:Join us for a low impact gentle Hula exercises!
URL:https://library.sbcounty.gov/event/mentone-senior-center-hula-for-health/2026-06-11/
LOCATION:Mentone Senior Center\, 1331 Opal Ave.\, Mentone\, CA\, 92359\, United States
CATEGORIES:Seniors (65+)
END:VEVENT
BEGIN:VEVENT
DTSTART;TZID=America/Los_Angeles:20260611T111500
DTEND;TZID=America/Los_Angeles:20260611T133000
DTSTAMP:20260422T001346
CREATED:20260226T205033Z
LAST-MODIFIED:20260226T205033Z
UID:10009021-1781176500-1781184600@library.sbcounty.gov
SUMMARY:Hula Classes
DESCRIPTION:Basic hula levels offered from beginning to intermediate
URL:https://library.sbcounty.gov/event/mentone-senior-center-hula-classes/2026-06-11/
LOCATION:Mentone Senior Center\, 1331 Opal Ave.\, Mentone\, CA\, 92359\, United States
CATEGORIES:Seniors (65+)
END:VEVENT
BEGIN:VEVENT
DTSTART;TZID=America/Los_Angeles:20260611T180000
DTEND;TZID=America/Los_Angeles:20260611T190000
DTSTAMP:20260422T001346
CREATED:20260204T185903Z
LAST-MODIFIED:20260204T185903Z
UID:10002013-1781200800-1781204400@library.sbcounty.gov
SUMMARY:SRP Kick-Off!
DESCRIPTION:Celebrate the start of our Summer Reading Program with a special performance!
URL:https://library.sbcounty.gov/event/cal-aero-preserve-srp-kick-off/
LOCATION:Cal Aero Preserve Academy Branch Library\, 15850 Main Street\, Chino\, CA\, 91708\, United States
CATEGORIES:Families (all ages)
END:VEVENT
BEGIN:VEVENT
DTSTART;TZID=America/Los_Angeles:20260613T090000
DTEND;TZID=America/Los_Angeles:20260613T100000
DTSTAMP:20260422T001346
CREATED:20260226T201527Z
LAST-MODIFIED:20260226T201837Z
UID:10008334-1781341200-1781344800@library.sbcounty.gov
SUMMARY:Chair Exercise
DESCRIPTION:Join us and exercise while seated in a chair (with DVD instruction).
URL:https://library.sbcounty.gov/event/mentone-senior-center-chair-exercise/2026-06-13/
LOCATION:Mentone Senior Center\, 1331 Opal Ave.\, Mentone\, CA\, 92359\, United States
CATEGORIES:Seniors (65+)
END:VEVENT
BEGIN:VEVENT
DTSTART;TZID=America/Los_Angeles:20260613T090000
DTEND;TZID=America/Los_Angeles:20260613T100000
DTSTAMP:20260422T001346
CREATED:20260226T201743Z
LAST-MODIFIED:20260226T201743Z
UID:10008295-1781341200-1781344800@library.sbcounty.gov
SUMMARY:Walking 4 Wellness
DESCRIPTION:Walk with us on our 0.25 mile track outside of the Senior Center and Library!
URL:https://library.sbcounty.gov/event/mentone-senior-center-walking-4-wellness/2026-06-13/
LOCATION:Mentone Senior Center\, 1331 Opal Ave.\, Mentone\, CA\, 92359\, United States
CATEGORIES:Seniors (65+)
END:VEVENT
BEGIN:VEVENT
DTSTART;TZID=America/Los_Angeles:20260613T090000
DTEND;TZID=America/Los_Angeles:20260613T120000
DTSTAMP:20260422T001346
CREATED:20260225T181430Z
LAST-MODIFIED:20260225T181430Z
UID:10006051-1781341200-1781352000@library.sbcounty.gov
SUMMARY:Friends of the Library Book Sale
DESCRIPTION:All funds raised by the Friends of the Library Book Sale are invested back into the local branch library to better serve the community.
URL:https://library.sbcounty.gov/event/joshua-tree-friends-of-the-library-book-sale-2/
LOCATION:Joshua Tree Branch Library\, 6465 Park Blvd.\, Joshua Tree\, CA\, 92252\, United States
CATEGORIES:Adults (18+)
END:VEVENT
BEGIN:VEVENT
DTSTART;TZID=America/Los_Angeles:20260613T110000
DTEND;TZID=America/Los_Angeles:20260613T120000
DTSTAMP:20260422T001346
CREATED:20260209T213551Z
LAST-MODIFIED:20260209T213551Z
UID:10002751-1781348400-1781352000@library.sbcounty.gov
SUMMARY:Adult Book Club
DESCRIPTION:Join fellow book lovers to read and discuss selected novels and nonfiction. Everyone is welcome to share their thoughts\, perspectives\, and insights! \n\nBook selection: Nightshade by Michael Connelly
URL:https://library.sbcounty.gov/event/mentone-adult-book-club-4/
LOCATION:Mentone Library\, 1331 Opal Ave.\, Mentone\, CA\, 92359\, United States
CATEGORIES:Adults (18+)
END:VEVENT
BEGIN:VEVENT
DTSTART;TZID=America/Los_Angeles:20260613T120000
DTEND;TZID=America/Los_Angeles:20260613T130000
DTSTAMP:20260422T001346
CREATED:20260226T202025Z
LAST-MODIFIED:20260226T202025Z
UID:10008385-1781352000-1781355600@library.sbcounty.gov
SUMMARY:Golden Gamers
DESCRIPTION:Come and join us to socialize and play various board games at the Senior Center!
URL:https://library.sbcounty.gov/event/mentone-senior-center-golden-gamers/2026-06-13/
LOCATION:Mentone Senior Center\, 1331 Opal Ave.\, Mentone\, CA\, 92359\, United States
CATEGORIES:Seniors (65+)
END:VEVENT
BEGIN:VEVENT
DTSTART;TZID=America/Los_Angeles:20260613T120000
DTEND;TZID=America/Los_Angeles:20260613T143000
DTSTAMP:20260422T001346
CREATED:20260209T214759Z
LAST-MODIFIED:20260209T214759Z
UID:10002757-1781352000-1781361000@library.sbcounty.gov
SUMMARY:Summer Reading Program Kick-Off Event!
DESCRIPTION:Join us at the Mentone Branch Library & Senior Center to kick off this year’s Summer Reading Program! \nThe fun begins at 12:00 PM in the Senior Center with one of our amazing performers\, then continues in the library with even more activities! Enjoy a fantastic show\, listen to a story\, play games\, take part in a scavenger hunt\, and earn chances to win exciting prizes. \nCollect opportunity drawing tickets by checking out 15 items—so start reading and start winning! Let’s make this our best Summer Reading Program yet!
URL:https://library.sbcounty.gov/event/mentone-summer-reading-program-kick-off-event/
LOCATION:Mentone Library\, 1331 Opal Ave.\, Mentone\, CA\, 92359\, United States
CATEGORIES:Families (all ages)
END:VEVENT
END:VCALENDAR