BEGIN:VCALENDAR
VERSION:2.0
PRODID:-//Library - ECPv6.15.14//NONSGML v1.0//EN
CALSCALE:GREGORIAN
METHOD:PUBLISH
X-ORIGINAL-URL:https://library.sbcounty.gov
X-WR-CALDESC:Events for Library
REFRESH-INTERVAL;VALUE=DURATION:PT1H
X-Robots-Tag:noindex
X-PUBLISHED-TTL:PT1H
BEGIN:VTIMEZONE
TZID:America/Los_Angeles
BEGIN:DAYLIGHT
TZOFFSETFROM:-0800
TZOFFSETTO:-0700
TZNAME:PDT
DTSTART:20250309T100000
END:DAYLIGHT
BEGIN:STANDARD
TZOFFSETFROM:-0700
TZOFFSETTO:-0800
TZNAME:PST
DTSTART:20251102T090000
END:STANDARD
BEGIN:DAYLIGHT
TZOFFSETFROM:-0800
TZOFFSETTO:-0700
TZNAME:PDT
DTSTART:20260308T100000
END:DAYLIGHT
BEGIN:STANDARD
TZOFFSETFROM:-0700
TZOFFSETTO:-0800
TZNAME:PST
DTSTART:20261101T090000
END:STANDARD
BEGIN:DAYLIGHT
TZOFFSETFROM:-0800
TZOFFSETTO:-0700
TZNAME:PDT
DTSTART:20270314T100000
END:DAYLIGHT
BEGIN:STANDARD
TZOFFSETFROM:-0700
TZOFFSETTO:-0800
TZNAME:PST
DTSTART:20271107T090000
END:STANDARD
END:VTIMEZONE
BEGIN:VEVENT
DTSTART;TZID=America/Los_Angeles:20260629T090000
DTEND;TZID=America/Los_Angeles:20260629T100000
DTSTAMP:20260420T150517
CREATED:20260226T202529Z
LAST-MODIFIED:20260226T202529Z
UID:10008493-1782723600-1782727200@library.sbcounty.gov
SUMMARY:Walking 4 Wellness
DESCRIPTION:Walk with us on our 0.25 mile track outside of the Senior Center and Library!
URL:https://library.sbcounty.gov/event/mentone-senior-center-walking-4-wellness-2/2026-06-29/
LOCATION:Mentone Senior Center\, 1331 Opal Ave.\, Mentone\, CA\, 92359\, United States
CATEGORIES:Seniors (65+)
END:VEVENT
BEGIN:VEVENT
DTSTART;TZID=America/Los_Angeles:20260629T130000
DTEND;TZID=America/Los_Angeles:20260629T150000
DTSTAMP:20260420T150517
CREATED:20260226T212045Z
LAST-MODIFIED:20260227T171027Z
UID:10009081-1782738000-1782745200@library.sbcounty.gov
SUMMARY:Monday Movie
DESCRIPTION:Come enjoy a viewing of our Monday movie! \n\nMovie selection: Smokey & the Bandit (1977)
URL:https://library.sbcounty.gov/event/mentone-senior-center-monday-movie-17/
LOCATION:Mentone Senior Center\, 1331 Opal Ave.\, Mentone\, CA\, 92359\, United States
CATEGORIES:Seniors (65+)
END:VEVENT
BEGIN:VEVENT
DTSTART;TZID=America/Los_Angeles:20260630T090000
DTEND;TZID=America/Los_Angeles:20260630T100000
DTSTAMP:20260420T150517
CREATED:20260226T203316Z
LAST-MODIFIED:20260226T203316Z
UID:10008562-1782810000-1782813600@library.sbcounty.gov
SUMMARY:Chair Exercise
DESCRIPTION:Exercise in a chair along with chair exercise (DVD instruction)
URL:https://library.sbcounty.gov/event/mentone-senior-center-chair-exercise-3/2026-06-30/
LOCATION:Mentone Senior Center\, 1331 Opal Ave.\, Mentone\, CA\, 92359\, United States
CATEGORIES:Seniors (65+)
END:VEVENT
BEGIN:VEVENT
DTSTART;TZID=America/Los_Angeles:20260630T090000
DTEND;TZID=America/Los_Angeles:20260630T100000
DTSTAMP:20260420T150517
CREATED:20260226T203452Z
LAST-MODIFIED:20260226T203452Z
UID:10008616-1782810000-1782813600@library.sbcounty.gov
SUMMARY:Walking 4 Wellness
DESCRIPTION:Walk with us on our 0.25 mile track outside of the Senior Center and Library!
URL:https://library.sbcounty.gov/event/mentone-senior-center-walking-4-wellness-3/2026-06-30/
LOCATION:Mentone Senior Center\, 1331 Opal Ave.\, Mentone\, CA\, 92359\, United States
CATEGORIES:Seniors (65+)
END:VEVENT
BEGIN:VEVENT
DTSTART;TZID=America/Los_Angeles:20260630T103000
DTEND;TZID=America/Los_Angeles:20260630T110000
DTSTAMP:20260420T150517
CREATED:20260226T203635Z
LAST-MODIFIED:20260226T203635Z
UID:10008670-1782815400-1782817200@library.sbcounty.gov
SUMMARY:Special Strong
DESCRIPTION:30 minute chair exercises for senior adults with special needs
URL:https://library.sbcounty.gov/event/mentone-senior-center-special-strong/2026-06-30/
LOCATION:Mentone Senior Center\, 1331 Opal Ave.\, Mentone\, CA\, 92359\, United States
CATEGORIES:Seniors (65+)
END:VEVENT
END:VCALENDAR