BEGIN:VCALENDAR
VERSION:2.0
PRODID:-//Library - ECPv6.15.14//NONSGML v1.0//EN
CALSCALE:GREGORIAN
METHOD:PUBLISH
X-ORIGINAL-URL:https://library.sbcounty.gov
X-WR-CALDESC:Events for Library
REFRESH-INTERVAL;VALUE=DURATION:PT1H
X-Robots-Tag:noindex
X-PUBLISHED-TTL:PT1H
BEGIN:VTIMEZONE
TZID:America/Los_Angeles
BEGIN:DAYLIGHT
TZOFFSETFROM:-0800
TZOFFSETTO:-0700
TZNAME:PDT
DTSTART:20250309T100000
END:DAYLIGHT
BEGIN:STANDARD
TZOFFSETFROM:-0700
TZOFFSETTO:-0800
TZNAME:PST
DTSTART:20251102T090000
END:STANDARD
BEGIN:DAYLIGHT
TZOFFSETFROM:-0800
TZOFFSETTO:-0700
TZNAME:PDT
DTSTART:20260308T100000
END:DAYLIGHT
BEGIN:STANDARD
TZOFFSETFROM:-0700
TZOFFSETTO:-0800
TZNAME:PST
DTSTART:20261101T090000
END:STANDARD
BEGIN:DAYLIGHT
TZOFFSETFROM:-0800
TZOFFSETTO:-0700
TZNAME:PDT
DTSTART:20270314T100000
END:DAYLIGHT
BEGIN:STANDARD
TZOFFSETFROM:-0700
TZOFFSETTO:-0800
TZNAME:PST
DTSTART:20271107T090000
END:STANDARD
END:VTIMEZONE
BEGIN:VEVENT
DTSTART;TZID=America/Los_Angeles:20260411T090000
DTEND;TZID=America/Los_Angeles:20260411T100000
DTSTAMP:20260420T122004
CREATED:20260226T201743Z
LAST-MODIFIED:20260226T201743Z
UID:10008268-1775898000-1775901600@library.sbcounty.gov
SUMMARY:Walking 4 Wellness
DESCRIPTION:Walk with us on our 0.25 mile track outside of the Senior Center and Library!
URL:https://library.sbcounty.gov/event/mentone-senior-center-walking-4-wellness/2026-04-11/
LOCATION:Mentone Senior Center\, 1331 Opal Ave.\, Mentone\, CA\, 92359\, United States
CATEGORIES:Seniors (65+)
END:VEVENT
BEGIN:VEVENT
DTSTART;TZID=America/Los_Angeles:20260411T090000
DTEND;TZID=America/Los_Angeles:20260411T100000
DTSTAMP:20260420T122004
CREATED:20260226T201527Z
LAST-MODIFIED:20260226T201837Z
UID:10008307-1775898000-1775901600@library.sbcounty.gov
SUMMARY:Chair Exercise
DESCRIPTION:Join us and exercise while seated in a chair (with DVD instruction).
URL:https://library.sbcounty.gov/event/mentone-senior-center-chair-exercise/2026-04-11/
LOCATION:Mentone Senior Center\, 1331 Opal Ave.\, Mentone\, CA\, 92359\, United States
CATEGORIES:Seniors (65+)
END:VEVENT
BEGIN:VEVENT
DTSTART;TZID=America/Los_Angeles:20260409T111500
DTEND;TZID=America/Los_Angeles:20260409T133000
DTSTAMP:20260420T122004
CREATED:20260226T205033Z
LAST-MODIFIED:20260226T205033Z
UID:10008994-1775733300-1775741400@library.sbcounty.gov
SUMMARY:Hula Classes
DESCRIPTION:Basic hula levels offered from beginning to intermediate
URL:https://library.sbcounty.gov/event/mentone-senior-center-hula-classes/2026-04-09/
LOCATION:Mentone Senior Center\, 1331 Opal Ave.\, Mentone\, CA\, 92359\, United States
CATEGORIES:Seniors (65+)
END:VEVENT
BEGIN:VEVENT
DTSTART;TZID=America/Los_Angeles:20260409T101500
DTEND;TZID=America/Los_Angeles:20260409T110000
DTSTAMP:20260420T122004
CREATED:20260226T204902Z
LAST-MODIFIED:20260226T204902Z
UID:10008943-1775729700-1775732400@library.sbcounty.gov
SUMMARY:Hula for Health
DESCRIPTION:Join us for a low impact gentle Hula exercises!
URL:https://library.sbcounty.gov/event/mentone-senior-center-hula-for-health/2026-04-09/
LOCATION:Mentone Senior Center\, 1331 Opal Ave.\, Mentone\, CA\, 92359\, United States
CATEGORIES:Seniors (65+)
END:VEVENT
BEGIN:VEVENT
DTSTART;TZID=America/Los_Angeles:20260409T090000
DTEND;TZID=America/Los_Angeles:20260409T100000
DTSTAMP:20260420T122004
CREATED:20260226T204655Z
LAST-MODIFIED:20260226T204655Z
UID:10008892-1775725200-1775728800@library.sbcounty.gov
SUMMARY:Walking 4 Wellness
DESCRIPTION:Walk with us on our 0.25 mile track outside of the Senior Center and Library!
URL:https://library.sbcounty.gov/event/mentone-senior-center-walking-4-wellness-5/2026-04-09/
LOCATION:Mentone Senior Center\, 1331 Opal Ave.\, Mentone\, CA\, 92359\, United States
CATEGORIES:Seniors (65+)
END:VEVENT
BEGIN:VEVENT
DTSTART;TZID=America/Los_Angeles:20260409T090000
DTEND;TZID=America/Los_Angeles:20260409T100000
DTSTAMP:20260420T122004
CREATED:20260226T204552Z
LAST-MODIFIED:20260226T204552Z
UID:10008841-1775725200-1775728800@library.sbcounty.gov
SUMMARY:Chair Yoga
DESCRIPTION:Join us for a series of gentle physical exercises and stretches that will calm your mind and strengthen your body! (DVD instruction)
URL:https://library.sbcounty.gov/event/mentone-senior-center-chair-yoga/2026-04-09/
LOCATION:Mentone Senior Center\, 1331 Opal Ave.\, Mentone\, CA\, 92359\, United States
CATEGORIES:Seniors (65+)
END:VEVENT
BEGIN:VEVENT
DTSTART;TZID=America/Los_Angeles:20260409T083000
DTEND;TZID=America/Los_Angeles:20260409T090000
DTSTAMP:20260420T122004
CREATED:20260226T204405Z
LAST-MODIFIED:20260226T204405Z
UID:10008790-1775723400-1775725200@library.sbcounty.gov
SUMMARY:Senior Breakfast
DESCRIPTION:Join us for our senior breakfast to eat and socialize!
URL:https://library.sbcounty.gov/event/mentone-senior-center-senior-breakfast/2026-04-09/
LOCATION:Mentone Senior Center\, 1331 Opal Ave.\, Mentone\, CA\, 92359\, United States
CATEGORIES:Seniors (65+)
END:VEVENT
BEGIN:VEVENT
DTSTART;TZID=America/Los_Angeles:20260408T090000
DTEND;TZID=America/Los_Angeles:20260408T100000
DTSTAMP:20260420T122004
CREATED:20260226T203927Z
LAST-MODIFIED:20260226T203927Z
UID:10008739-1775638800-1775642400@library.sbcounty.gov
SUMMARY:Walking 4 Wellness
DESCRIPTION:Walk with us on our 0.25 mile track outside of the Senior Center and Library!
URL:https://library.sbcounty.gov/event/mentone-senior-center-walking-4-wellness-4/2026-04-08/
LOCATION:Mentone Senior Center\, 1331 Opal Ave.\, Mentone\, CA\, 92359\, United States
CATEGORIES:Seniors (65+)
END:VEVENT
BEGIN:VEVENT
DTSTART;TZID=America/Los_Angeles:20260408T090000
DTEND;TZID=America/Los_Angeles:20260408T100000
DTSTAMP:20260420T122004
CREATED:20260226T203739Z
LAST-MODIFIED:20260226T203739Z
UID:10008688-1775638800-1775642400@library.sbcounty.gov
SUMMARY:Chair Exercise
DESCRIPTION:Exercise in a chair along with chair exercise (DVD instruction)
URL:https://library.sbcounty.gov/event/mentone-senior-center-chair-exercise-4/2026-04-08/
LOCATION:Mentone Senior Center\, 1331 Opal Ave.\, Mentone\, CA\, 92359\, United States
CATEGORIES:Seniors (65+)
END:VEVENT
BEGIN:VEVENT
DTSTART;TZID=America/Los_Angeles:20260407T103000
DTEND;TZID=America/Los_Angeles:20260407T110000
DTSTAMP:20260420T122004
CREATED:20260226T203635Z
LAST-MODIFIED:20260226T203635Z
UID:10008634-1775557800-1775559600@library.sbcounty.gov
SUMMARY:Special Strong
DESCRIPTION:30 minute chair exercises for senior adults with special needs
URL:https://library.sbcounty.gov/event/mentone-senior-center-special-strong/2026-04-07/
LOCATION:Mentone Senior Center\, 1331 Opal Ave.\, Mentone\, CA\, 92359\, United States
CATEGORIES:Seniors (65+)
END:VEVENT
BEGIN:VEVENT
DTSTART;TZID=America/Los_Angeles:20260407T090000
DTEND;TZID=America/Los_Angeles:20260407T100000
DTSTAMP:20260420T122004
CREATED:20260226T203452Z
LAST-MODIFIED:20260226T203452Z
UID:10008580-1775552400-1775556000@library.sbcounty.gov
SUMMARY:Walking 4 Wellness
DESCRIPTION:Walk with us on our 0.25 mile track outside of the Senior Center and Library!
URL:https://library.sbcounty.gov/event/mentone-senior-center-walking-4-wellness-3/2026-04-07/
LOCATION:Mentone Senior Center\, 1331 Opal Ave.\, Mentone\, CA\, 92359\, United States
CATEGORIES:Seniors (65+)
END:VEVENT
BEGIN:VEVENT
DTSTART;TZID=America/Los_Angeles:20260407T090000
DTEND;TZID=America/Los_Angeles:20260407T100000
DTSTAMP:20260420T122004
CREATED:20260226T203316Z
LAST-MODIFIED:20260226T203316Z
UID:10008526-1775552400-1775556000@library.sbcounty.gov
SUMMARY:Chair Exercise
DESCRIPTION:Exercise in a chair along with chair exercise (DVD instruction)
URL:https://library.sbcounty.gov/event/mentone-senior-center-chair-exercise-3/2026-04-07/
LOCATION:Mentone Senior Center\, 1331 Opal Ave.\, Mentone\, CA\, 92359\, United States
CATEGORIES:Seniors (65+)
END:VEVENT
BEGIN:VEVENT
DTSTART;TZID=America/Los_Angeles:20260406T130000
DTEND;TZID=America/Los_Angeles:20260406T150000
DTSTAMP:20260420T122004
CREATED:20260226T205712Z
LAST-MODIFIED:20260227T171137Z
UID:10009036-1775480400-1775487600@library.sbcounty.gov
SUMMARY:Monday Movie
DESCRIPTION:Come enjoy a viewing of our Monday Movie! \n\nMovie selection: Father Of the Bride (1991)
URL:https://library.sbcounty.gov/event/mentone-senior-center-monday-movie-6/
LOCATION:Mentone Senior Center\, 1331 Opal Ave.\, Mentone\, CA\, 92359\, United States
CATEGORIES:Seniors (65+)
END:VEVENT
BEGIN:VEVENT
DTSTART;TZID=America/Los_Angeles:20260406T090000
DTEND;TZID=America/Los_Angeles:20260406T100000
DTSTAMP:20260420T122004
CREATED:20260226T202529Z
LAST-MODIFIED:20260226T202529Z
UID:10008460-1775466000-1775469600@library.sbcounty.gov
SUMMARY:Walking 4 Wellness
DESCRIPTION:Walk with us on our 0.25 mile track outside of the Senior Center and Library!
URL:https://library.sbcounty.gov/event/mentone-senior-center-walking-4-wellness-2/2026-04-06/
LOCATION:Mentone Senior Center\, 1331 Opal Ave.\, Mentone\, CA\, 92359\, United States
CATEGORIES:Seniors (65+)
END:VEVENT
BEGIN:VEVENT
DTSTART;TZID=America/Los_Angeles:20260406T090000
DTEND;TZID=America/Los_Angeles:20260406T100000
DTSTAMP:20260420T122004
CREATED:20260226T202246Z
LAST-MODIFIED:20260226T202246Z
UID:10008409-1775466000-1775469600@library.sbcounty.gov
SUMMARY:Chair Exercise
DESCRIPTION:Exercise in a chair along with chair exercise (DVD instruction)
URL:https://library.sbcounty.gov/event/mentone-senior-center-chair-exercise-2/2026-04-06/
LOCATION:Mentone Senior Center\, 1331 Opal Ave.\, Mentone\, CA\, 92359\, United States
CATEGORIES:Seniors (65+)
END:VEVENT
BEGIN:VEVENT
DTSTART;TZID=America/Los_Angeles:20260404T120000
DTEND;TZID=America/Los_Angeles:20260404T130000
DTSTAMP:20260420T122004
CREATED:20260226T202025Z
LAST-MODIFIED:20260226T202025Z
UID:10008355-1775304000-1775307600@library.sbcounty.gov
SUMMARY:Golden Gamers
DESCRIPTION:Come and join us to socialize and play various board games at the Senior Center!
URL:https://library.sbcounty.gov/event/mentone-senior-center-golden-gamers/2026-04-04/
LOCATION:Mentone Senior Center\, 1331 Opal Ave.\, Mentone\, CA\, 92359\, United States
CATEGORIES:Seniors (65+)
END:VEVENT
BEGIN:VEVENT
DTSTART;TZID=America/Los_Angeles:20260404T090000
DTEND;TZID=America/Los_Angeles:20260404T100000
DTSTAMP:20260420T122004
CREATED:20260226T201743Z
LAST-MODIFIED:20260226T201743Z
UID:10008265-1775293200-1775296800@library.sbcounty.gov
SUMMARY:Walking 4 Wellness
DESCRIPTION:Walk with us on our 0.25 mile track outside of the Senior Center and Library!
URL:https://library.sbcounty.gov/event/mentone-senior-center-walking-4-wellness/2026-04-04/
LOCATION:Mentone Senior Center\, 1331 Opal Ave.\, Mentone\, CA\, 92359\, United States
CATEGORIES:Seniors (65+)
END:VEVENT
BEGIN:VEVENT
DTSTART;TZID=America/Los_Angeles:20260404T090000
DTEND;TZID=America/Los_Angeles:20260404T100000
DTSTAMP:20260420T122004
CREATED:20260226T201527Z
LAST-MODIFIED:20260226T201837Z
UID:10008304-1775293200-1775296800@library.sbcounty.gov
SUMMARY:Chair Exercise
DESCRIPTION:Join us and exercise while seated in a chair (with DVD instruction).
URL:https://library.sbcounty.gov/event/mentone-senior-center-chair-exercise/2026-04-04/
LOCATION:Mentone Senior Center\, 1331 Opal Ave.\, Mentone\, CA\, 92359\, United States
CATEGORIES:Seniors (65+)
END:VEVENT
BEGIN:VEVENT
DTSTART;TZID=America/Los_Angeles:20260402T111500
DTEND;TZID=America/Los_Angeles:20260402T133000
DTSTAMP:20260420T122004
CREATED:20260226T205033Z
LAST-MODIFIED:20260226T205033Z
UID:10008991-1775128500-1775136600@library.sbcounty.gov
SUMMARY:Hula Classes
DESCRIPTION:Basic hula levels offered from beginning to intermediate
URL:https://library.sbcounty.gov/event/mentone-senior-center-hula-classes/2026-04-02/
LOCATION:Mentone Senior Center\, 1331 Opal Ave.\, Mentone\, CA\, 92359\, United States
CATEGORIES:Seniors (65+)
END:VEVENT
BEGIN:VEVENT
DTSTART;TZID=America/Los_Angeles:20260402T101500
DTEND;TZID=America/Los_Angeles:20260402T110000
DTSTAMP:20260420T122004
CREATED:20260226T204902Z
LAST-MODIFIED:20260226T204902Z
UID:10008940-1775124900-1775127600@library.sbcounty.gov
SUMMARY:Hula for Health
DESCRIPTION:Join us for a low impact gentle Hula exercises!
URL:https://library.sbcounty.gov/event/mentone-senior-center-hula-for-health/2026-04-02/
LOCATION:Mentone Senior Center\, 1331 Opal Ave.\, Mentone\, CA\, 92359\, United States
CATEGORIES:Seniors (65+)
END:VEVENT
BEGIN:VEVENT
DTSTART;TZID=America/Los_Angeles:20260402T090000
DTEND;TZID=America/Los_Angeles:20260402T100000
DTSTAMP:20260420T122004
CREATED:20260226T204655Z
LAST-MODIFIED:20260226T204655Z
UID:10008889-1775120400-1775124000@library.sbcounty.gov
SUMMARY:Walking 4 Wellness
DESCRIPTION:Walk with us on our 0.25 mile track outside of the Senior Center and Library!
URL:https://library.sbcounty.gov/event/mentone-senior-center-walking-4-wellness-5/2026-04-02/
LOCATION:Mentone Senior Center\, 1331 Opal Ave.\, Mentone\, CA\, 92359\, United States
CATEGORIES:Seniors (65+)
END:VEVENT
BEGIN:VEVENT
DTSTART;TZID=America/Los_Angeles:20260402T090000
DTEND;TZID=America/Los_Angeles:20260402T100000
DTSTAMP:20260420T122004
CREATED:20260226T204552Z
LAST-MODIFIED:20260226T204552Z
UID:10008838-1775120400-1775124000@library.sbcounty.gov
SUMMARY:Chair Yoga
DESCRIPTION:Join us for a series of gentle physical exercises and stretches that will calm your mind and strengthen your body! (DVD instruction)
URL:https://library.sbcounty.gov/event/mentone-senior-center-chair-yoga/2026-04-02/
LOCATION:Mentone Senior Center\, 1331 Opal Ave.\, Mentone\, CA\, 92359\, United States
CATEGORIES:Seniors (65+)
END:VEVENT
BEGIN:VEVENT
DTSTART;TZID=America/Los_Angeles:20260402T083000
DTEND;TZID=America/Los_Angeles:20260402T090000
DTSTAMP:20260420T122004
CREATED:20260226T204405Z
LAST-MODIFIED:20260226T204405Z
UID:10008787-1775118600-1775120400@library.sbcounty.gov
SUMMARY:Senior Breakfast
DESCRIPTION:Join us for our senior breakfast to eat and socialize!
URL:https://library.sbcounty.gov/event/mentone-senior-center-senior-breakfast/2026-04-02/
LOCATION:Mentone Senior Center\, 1331 Opal Ave.\, Mentone\, CA\, 92359\, United States
CATEGORIES:Seniors (65+)
END:VEVENT
BEGIN:VEVENT
DTSTART;TZID=America/Los_Angeles:20260401T090000
DTEND;TZID=America/Los_Angeles:20260401T100000
DTSTAMP:20260420T122004
CREATED:20260226T203927Z
LAST-MODIFIED:20260226T203927Z
UID:10008736-1775034000-1775037600@library.sbcounty.gov
SUMMARY:Walking 4 Wellness
DESCRIPTION:Walk with us on our 0.25 mile track outside of the Senior Center and Library!
URL:https://library.sbcounty.gov/event/mentone-senior-center-walking-4-wellness-4/2026-04-01/
LOCATION:Mentone Senior Center\, 1331 Opal Ave.\, Mentone\, CA\, 92359\, United States
CATEGORIES:Seniors (65+)
END:VEVENT
BEGIN:VEVENT
DTSTART;TZID=America/Los_Angeles:20260401T090000
DTEND;TZID=America/Los_Angeles:20260401T100000
DTSTAMP:20260420T122004
CREATED:20260226T203739Z
LAST-MODIFIED:20260226T203739Z
UID:10008685-1775034000-1775037600@library.sbcounty.gov
SUMMARY:Chair Exercise
DESCRIPTION:Exercise in a chair along with chair exercise (DVD instruction)
URL:https://library.sbcounty.gov/event/mentone-senior-center-chair-exercise-4/2026-04-01/
LOCATION:Mentone Senior Center\, 1331 Opal Ave.\, Mentone\, CA\, 92359\, United States
CATEGORIES:Seniors (65+)
END:VEVENT
BEGIN:VEVENT
DTSTART;TZID=America/Los_Angeles:20260331T103000
DTEND;TZID=America/Los_Angeles:20260331T110000
DTSTAMP:20260420T122004
CREATED:20260226T203635Z
LAST-MODIFIED:20260226T203635Z
UID:10008631-1774953000-1774954800@library.sbcounty.gov
SUMMARY:Special Strong
DESCRIPTION:30 minute chair exercises for senior adults with special needs
URL:https://library.sbcounty.gov/event/mentone-senior-center-special-strong/2026-03-31/
LOCATION:Mentone Senior Center\, 1331 Opal Ave.\, Mentone\, CA\, 92359\, United States
CATEGORIES:Seniors (65+)
END:VEVENT
BEGIN:VEVENT
DTSTART;TZID=America/Los_Angeles:20260331T090000
DTEND;TZID=America/Los_Angeles:20260331T100000
DTSTAMP:20260420T122004
CREATED:20260226T203452Z
LAST-MODIFIED:20260226T203452Z
UID:10008577-1774947600-1774951200@library.sbcounty.gov
SUMMARY:Walking 4 Wellness
DESCRIPTION:Walk with us on our 0.25 mile track outside of the Senior Center and Library!
URL:https://library.sbcounty.gov/event/mentone-senior-center-walking-4-wellness-3/2026-03-31/
LOCATION:Mentone Senior Center\, 1331 Opal Ave.\, Mentone\, CA\, 92359\, United States
CATEGORIES:Seniors (65+)
END:VEVENT
BEGIN:VEVENT
DTSTART;TZID=America/Los_Angeles:20260331T090000
DTEND;TZID=America/Los_Angeles:20260331T100000
DTSTAMP:20260420T122004
CREATED:20260226T203316Z
LAST-MODIFIED:20260226T203316Z
UID:10008523-1774947600-1774951200@library.sbcounty.gov
SUMMARY:Chair Exercise
DESCRIPTION:Exercise in a chair along with chair exercise (DVD instruction)
URL:https://library.sbcounty.gov/event/mentone-senior-center-chair-exercise-3/2026-03-31/
LOCATION:Mentone Senior Center\, 1331 Opal Ave.\, Mentone\, CA\, 92359\, United States
CATEGORIES:Seniors (65+)
END:VEVENT
BEGIN:VEVENT
DTSTART;TZID=America/Los_Angeles:20260330T130000
DTEND;TZID=America/Los_Angeles:20260330T150000
DTSTAMP:20260420T122004
CREATED:20260226T203117Z
LAST-MODIFIED:20260227T171143Z
UID:10008508-1774875600-1774882800@library.sbcounty.gov
SUMMARY:Monday Movie
DESCRIPTION:Come enjoy a viewing of our Monday Movie! \n\nMovie selection: Conclave (2024)
URL:https://library.sbcounty.gov/event/mentone-senior-center-monday-movie-5/
LOCATION:Mentone Senior Center\, 1331 Opal Ave.\, Mentone\, CA\, 92359\, United States
CATEGORIES:Seniors (65+)
END:VEVENT
BEGIN:VEVENT
DTSTART;TZID=America/Los_Angeles:20260330T090000
DTEND;TZID=America/Los_Angeles:20260330T100000
DTSTAMP:20260420T122004
CREATED:20260226T202529Z
LAST-MODIFIED:20260226T202529Z
UID:10008457-1774861200-1774864800@library.sbcounty.gov
SUMMARY:Walking 4 Wellness
DESCRIPTION:Walk with us on our 0.25 mile track outside of the Senior Center and Library!
URL:https://library.sbcounty.gov/event/mentone-senior-center-walking-4-wellness-2/2026-03-30/
LOCATION:Mentone Senior Center\, 1331 Opal Ave.\, Mentone\, CA\, 92359\, United States
CATEGORIES:Seniors (65+)
END:VEVENT
END:VCALENDAR