BEGIN:VCALENDAR
VERSION:2.0
PRODID:-//Library - ECPv6.15.14//NONSGML v1.0//EN
CALSCALE:GREGORIAN
METHOD:PUBLISH
X-ORIGINAL-URL:https://library.sbcounty.gov
X-WR-CALDESC:Events for Library
REFRESH-INTERVAL;VALUE=DURATION:PT1H
X-Robots-Tag:noindex
X-PUBLISHED-TTL:PT1H
BEGIN:VTIMEZONE
TZID:America/Los_Angeles
BEGIN:DAYLIGHT
TZOFFSETFROM:-0800
TZOFFSETTO:-0700
TZNAME:PDT
DTSTART:20250309T100000
END:DAYLIGHT
BEGIN:STANDARD
TZOFFSETFROM:-0700
TZOFFSETTO:-0800
TZNAME:PST
DTSTART:20251102T090000
END:STANDARD
BEGIN:DAYLIGHT
TZOFFSETFROM:-0800
TZOFFSETTO:-0700
TZNAME:PDT
DTSTART:20260308T100000
END:DAYLIGHT
BEGIN:STANDARD
TZOFFSETFROM:-0700
TZOFFSETTO:-0800
TZNAME:PST
DTSTART:20261101T090000
END:STANDARD
BEGIN:DAYLIGHT
TZOFFSETFROM:-0800
TZOFFSETTO:-0700
TZNAME:PDT
DTSTART:20270314T100000
END:DAYLIGHT
BEGIN:STANDARD
TZOFFSETFROM:-0700
TZOFFSETTO:-0800
TZNAME:PST
DTSTART:20271107T090000
END:STANDARD
END:VTIMEZONE
BEGIN:VEVENT
DTSTART;TZID=America/Los_Angeles:20260330T090000
DTEND;TZID=America/Los_Angeles:20260330T100000
DTSTAMP:20260420T185339
CREATED:20260226T202529Z
LAST-MODIFIED:20260226T202529Z
UID:10008457-1774861200-1774864800@library.sbcounty.gov
SUMMARY:Walking 4 Wellness
DESCRIPTION:Walk with us on our 0.25 mile track outside of the Senior Center and Library!
URL:https://library.sbcounty.gov/event/mentone-senior-center-walking-4-wellness-2/2026-03-30/
LOCATION:Mentone Senior Center\, 1331 Opal Ave.\, Mentone\, CA\, 92359\, United States
CATEGORIES:Seniors (65+)
END:VEVENT
BEGIN:VEVENT
DTSTART;TZID=America/Los_Angeles:20260330T090000
DTEND;TZID=America/Los_Angeles:20260330T100000
DTSTAMP:20260420T185339
CREATED:20260226T202246Z
LAST-MODIFIED:20260226T202246Z
UID:10008406-1774861200-1774864800@library.sbcounty.gov
SUMMARY:Chair Exercise
DESCRIPTION:Exercise in a chair along with chair exercise (DVD instruction)
URL:https://library.sbcounty.gov/event/mentone-senior-center-chair-exercise-2/2026-03-30/
LOCATION:Mentone Senior Center\, 1331 Opal Ave.\, Mentone\, CA\, 92359\, United States
CATEGORIES:Seniors (65+)
END:VEVENT
BEGIN:VEVENT
DTSTART;TZID=America/Los_Angeles:20260328T120000
DTEND;TZID=America/Los_Angeles:20260328T130000
DTSTAMP:20260420T185339
CREATED:20260226T202025Z
LAST-MODIFIED:20260226T202025Z
UID:10008352-1774699200-1774702800@library.sbcounty.gov
SUMMARY:Golden Gamers
DESCRIPTION:Come and join us to socialize and play various board games at the Senior Center!
URL:https://library.sbcounty.gov/event/mentone-senior-center-golden-gamers/2026-03-28/
LOCATION:Mentone Senior Center\, 1331 Opal Ave.\, Mentone\, CA\, 92359\, United States
CATEGORIES:Seniors (65+)
END:VEVENT
BEGIN:VEVENT
DTSTART;TZID=America/Los_Angeles:20260328T090000
DTEND;TZID=America/Los_Angeles:20260328T100000
DTSTAMP:20260420T185339
CREATED:20260226T201743Z
LAST-MODIFIED:20260226T201743Z
UID:10008262-1774688400-1774692000@library.sbcounty.gov
SUMMARY:Walking 4 Wellness
DESCRIPTION:Walk with us on our 0.25 mile track outside of the Senior Center and Library!
URL:https://library.sbcounty.gov/event/mentone-senior-center-walking-4-wellness/2026-03-28/
LOCATION:Mentone Senior Center\, 1331 Opal Ave.\, Mentone\, CA\, 92359\, United States
CATEGORIES:Seniors (65+)
END:VEVENT
BEGIN:VEVENT
DTSTART;TZID=America/Los_Angeles:20260328T090000
DTEND;TZID=America/Los_Angeles:20260328T100000
DTSTAMP:20260420T185339
CREATED:20260226T201527Z
LAST-MODIFIED:20260226T201837Z
UID:10008250-1774688400-1774692000@library.sbcounty.gov
SUMMARY:Chair Exercise
DESCRIPTION:Join us and exercise while seated in a chair (with DVD instruction).
URL:https://library.sbcounty.gov/event/mentone-senior-center-chair-exercise/2026-03-28/
LOCATION:Mentone Senior Center\, 1331 Opal Ave.\, Mentone\, CA\, 92359\, United States
CATEGORIES:Seniors (65+)
END:VEVENT
BEGIN:VEVENT
DTSTART;TZID=America/Los_Angeles:20260326T111500
DTEND;TZID=America/Los_Angeles:20260326T133000
DTSTAMP:20260420T185339
CREATED:20260226T205033Z
LAST-MODIFIED:20260226T205033Z
UID:10008988-1774523700-1774531800@library.sbcounty.gov
SUMMARY:Hula Classes
DESCRIPTION:Basic hula levels offered from beginning to intermediate
URL:https://library.sbcounty.gov/event/mentone-senior-center-hula-classes/2026-03-26/
LOCATION:Mentone Senior Center\, 1331 Opal Ave.\, Mentone\, CA\, 92359\, United States
CATEGORIES:Seniors (65+)
END:VEVENT
BEGIN:VEVENT
DTSTART;TZID=America/Los_Angeles:20260326T101500
DTEND;TZID=America/Los_Angeles:20260326T110000
DTSTAMP:20260420T185339
CREATED:20260226T204902Z
LAST-MODIFIED:20260226T204902Z
UID:10008937-1774520100-1774522800@library.sbcounty.gov
SUMMARY:Hula for Health
DESCRIPTION:Join us for a low impact gentle Hula exercises!
URL:https://library.sbcounty.gov/event/mentone-senior-center-hula-for-health/2026-03-26/
LOCATION:Mentone Senior Center\, 1331 Opal Ave.\, Mentone\, CA\, 92359\, United States
CATEGORIES:Seniors (65+)
END:VEVENT
BEGIN:VEVENT
DTSTART;TZID=America/Los_Angeles:20260326T090000
DTEND;TZID=America/Los_Angeles:20260326T100000
DTSTAMP:20260420T185339
CREATED:20260226T204655Z
LAST-MODIFIED:20260226T204655Z
UID:10008886-1774515600-1774519200@library.sbcounty.gov
SUMMARY:Walking 4 Wellness
DESCRIPTION:Walk with us on our 0.25 mile track outside of the Senior Center and Library!
URL:https://library.sbcounty.gov/event/mentone-senior-center-walking-4-wellness-5/2026-03-26/
LOCATION:Mentone Senior Center\, 1331 Opal Ave.\, Mentone\, CA\, 92359\, United States
CATEGORIES:Seniors (65+)
END:VEVENT
BEGIN:VEVENT
DTSTART;TZID=America/Los_Angeles:20260326T090000
DTEND;TZID=America/Los_Angeles:20260326T100000
DTSTAMP:20260420T185339
CREATED:20260226T204552Z
LAST-MODIFIED:20260226T204552Z
UID:10008835-1774515600-1774519200@library.sbcounty.gov
SUMMARY:Chair Yoga
DESCRIPTION:Join us for a series of gentle physical exercises and stretches that will calm your mind and strengthen your body! (DVD instruction)
URL:https://library.sbcounty.gov/event/mentone-senior-center-chair-yoga/2026-03-26/
LOCATION:Mentone Senior Center\, 1331 Opal Ave.\, Mentone\, CA\, 92359\, United States
CATEGORIES:Seniors (65+)
END:VEVENT
BEGIN:VEVENT
DTSTART;TZID=America/Los_Angeles:20260326T083000
DTEND;TZID=America/Los_Angeles:20260326T090000
DTSTAMP:20260420T185339
CREATED:20260226T204405Z
LAST-MODIFIED:20260226T204405Z
UID:10008784-1774513800-1774515600@library.sbcounty.gov
SUMMARY:Senior Breakfast
DESCRIPTION:Join us for our senior breakfast to eat and socialize!
URL:https://library.sbcounty.gov/event/mentone-senior-center-senior-breakfast/2026-03-26/
LOCATION:Mentone Senior Center\, 1331 Opal Ave.\, Mentone\, CA\, 92359\, United States
CATEGORIES:Seniors (65+)
END:VEVENT
BEGIN:VEVENT
DTSTART;TZID=America/Los_Angeles:20260325T100000
DTEND;TZID=America/Los_Angeles:20260325T110000
DTSTAMP:20260420T185339
CREATED:20260226T205548Z
LAST-MODIFIED:20260226T205548Z
UID:10009033-1774432800-1774436400@library.sbcounty.gov
SUMMARY:Pom Pom Craft Social
DESCRIPTION:Learn how to make pom poms. Enjoy coffee and socializing.
URL:https://library.sbcounty.gov/event/mentone-senior-center-pom-pom-craft-social/
LOCATION:Mentone Senior Center\, 1331 Opal Ave.\, Mentone\, CA\, 92359\, United States
CATEGORIES:Seniors (65+)
END:VEVENT
BEGIN:VEVENT
DTSTART;TZID=America/Los_Angeles:20260325T090000
DTEND;TZID=America/Los_Angeles:20260325T100000
DTSTAMP:20260420T185339
CREATED:20260226T203927Z
LAST-MODIFIED:20260226T203927Z
UID:10008733-1774429200-1774432800@library.sbcounty.gov
SUMMARY:Walking 4 Wellness
DESCRIPTION:Walk with us on our 0.25 mile track outside of the Senior Center and Library!
URL:https://library.sbcounty.gov/event/mentone-senior-center-walking-4-wellness-4/2026-03-25/
LOCATION:Mentone Senior Center\, 1331 Opal Ave.\, Mentone\, CA\, 92359\, United States
CATEGORIES:Seniors (65+)
END:VEVENT
BEGIN:VEVENT
DTSTART;TZID=America/Los_Angeles:20260325T090000
DTEND;TZID=America/Los_Angeles:20260325T100000
DTSTAMP:20260420T185339
CREATED:20260226T203739Z
LAST-MODIFIED:20260226T203739Z
UID:10008682-1774429200-1774432800@library.sbcounty.gov
SUMMARY:Chair Exercise
DESCRIPTION:Exercise in a chair along with chair exercise (DVD instruction)
URL:https://library.sbcounty.gov/event/mentone-senior-center-chair-exercise-4/2026-03-25/
LOCATION:Mentone Senior Center\, 1331 Opal Ave.\, Mentone\, CA\, 92359\, United States
CATEGORIES:Seniors (65+)
END:VEVENT
BEGIN:VEVENT
DTSTART;TZID=America/Los_Angeles:20260324T103000
DTEND;TZID=America/Los_Angeles:20260324T110000
DTSTAMP:20260420T185339
CREATED:20260226T203635Z
LAST-MODIFIED:20260226T203635Z
UID:10008628-1774348200-1774350000@library.sbcounty.gov
SUMMARY:Special Strong
DESCRIPTION:30 minute chair exercises for senior adults with special needs
URL:https://library.sbcounty.gov/event/mentone-senior-center-special-strong/2026-03-24/
LOCATION:Mentone Senior Center\, 1331 Opal Ave.\, Mentone\, CA\, 92359\, United States
CATEGORIES:Seniors (65+)
END:VEVENT
BEGIN:VEVENT
DTSTART;TZID=America/Los_Angeles:20260324T090000
DTEND;TZID=America/Los_Angeles:20260324T100000
DTSTAMP:20260420T185339
CREATED:20260226T203452Z
LAST-MODIFIED:20260226T203452Z
UID:10008574-1774342800-1774346400@library.sbcounty.gov
SUMMARY:Walking 4 Wellness
DESCRIPTION:Walk with us on our 0.25 mile track outside of the Senior Center and Library!
URL:https://library.sbcounty.gov/event/mentone-senior-center-walking-4-wellness-3/2026-03-24/
LOCATION:Mentone Senior Center\, 1331 Opal Ave.\, Mentone\, CA\, 92359\, United States
CATEGORIES:Seniors (65+)
END:VEVENT
BEGIN:VEVENT
DTSTART;TZID=America/Los_Angeles:20260324T090000
DTEND;TZID=America/Los_Angeles:20260324T100000
DTSTAMP:20260420T185339
CREATED:20260226T203316Z
LAST-MODIFIED:20260226T203316Z
UID:10008520-1774342800-1774346400@library.sbcounty.gov
SUMMARY:Chair Exercise
DESCRIPTION:Exercise in a chair along with chair exercise (DVD instruction)
URL:https://library.sbcounty.gov/event/mentone-senior-center-chair-exercise-3/2026-03-24/
LOCATION:Mentone Senior Center\, 1331 Opal Ave.\, Mentone\, CA\, 92359\, United States
CATEGORIES:Seniors (65+)
END:VEVENT
BEGIN:VEVENT
DTSTART;TZID=America/Los_Angeles:20260323T130000
DTEND;TZID=America/Los_Angeles:20260323T150000
DTSTAMP:20260420T185339
CREATED:20260226T203018Z
LAST-MODIFIED:20260227T171148Z
UID:10008505-1774270800-1774278000@library.sbcounty.gov
SUMMARY:Monday Movie
DESCRIPTION:Come enjoy a viewing of our Monday Movie! \n\nMovie selection: Click (2006)
URL:https://library.sbcounty.gov/event/mentone-senior-center-monday-movie-4/
LOCATION:Mentone Senior Center\, 1331 Opal Ave.\, Mentone\, CA\, 92359\, United States
CATEGORIES:Seniors (65+)
END:VEVENT
BEGIN:VEVENT
DTSTART;TZID=America/Los_Angeles:20260323T090000
DTEND;TZID=America/Los_Angeles:20260323T100000
DTSTAMP:20260420T185339
CREATED:20260226T202529Z
LAST-MODIFIED:20260226T202529Z
UID:10008454-1774256400-1774260000@library.sbcounty.gov
SUMMARY:Walking 4 Wellness
DESCRIPTION:Walk with us on our 0.25 mile track outside of the Senior Center and Library!
URL:https://library.sbcounty.gov/event/mentone-senior-center-walking-4-wellness-2/2026-03-23/
LOCATION:Mentone Senior Center\, 1331 Opal Ave.\, Mentone\, CA\, 92359\, United States
CATEGORIES:Seniors (65+)
END:VEVENT
BEGIN:VEVENT
DTSTART;TZID=America/Los_Angeles:20260323T090000
DTEND;TZID=America/Los_Angeles:20260323T100000
DTSTAMP:20260420T185339
CREATED:20260226T202246Z
LAST-MODIFIED:20260226T202246Z
UID:10008403-1774256400-1774260000@library.sbcounty.gov
SUMMARY:Chair Exercise
DESCRIPTION:Exercise in a chair along with chair exercise (DVD instruction)
URL:https://library.sbcounty.gov/event/mentone-senior-center-chair-exercise-2/2026-03-23/
LOCATION:Mentone Senior Center\, 1331 Opal Ave.\, Mentone\, CA\, 92359\, United States
CATEGORIES:Seniors (65+)
END:VEVENT
BEGIN:VEVENT
DTSTART;TZID=America/Los_Angeles:20260321T120000
DTEND;TZID=America/Los_Angeles:20260321T130000
DTSTAMP:20260420T185339
CREATED:20260226T202025Z
LAST-MODIFIED:20260226T202025Z
UID:10008349-1774094400-1774098000@library.sbcounty.gov
SUMMARY:Golden Gamers
DESCRIPTION:Come and join us to socialize and play various board games at the Senior Center!
URL:https://library.sbcounty.gov/event/mentone-senior-center-golden-gamers/2026-03-21/
LOCATION:Mentone Senior Center\, 1331 Opal Ave.\, Mentone\, CA\, 92359\, United States
CATEGORIES:Seniors (65+)
END:VEVENT
BEGIN:VEVENT
DTSTART;TZID=America/Los_Angeles:20260321T090000
DTEND;TZID=America/Los_Angeles:20260321T100000
DTSTAMP:20260420T185339
CREATED:20260226T201743Z
LAST-MODIFIED:20260226T201743Z
UID:10008259-1774083600-1774087200@library.sbcounty.gov
SUMMARY:Walking 4 Wellness
DESCRIPTION:Walk with us on our 0.25 mile track outside of the Senior Center and Library!
URL:https://library.sbcounty.gov/event/mentone-senior-center-walking-4-wellness/2026-03-21/
LOCATION:Mentone Senior Center\, 1331 Opal Ave.\, Mentone\, CA\, 92359\, United States
CATEGORIES:Seniors (65+)
END:VEVENT
BEGIN:VEVENT
DTSTART;TZID=America/Los_Angeles:20260321T090000
DTEND;TZID=America/Los_Angeles:20260321T100000
DTSTAMP:20260420T185339
CREATED:20260226T201527Z
LAST-MODIFIED:20260226T201837Z
UID:10008247-1774083600-1774087200@library.sbcounty.gov
SUMMARY:Chair Exercise
DESCRIPTION:Join us and exercise while seated in a chair (with DVD instruction).
URL:https://library.sbcounty.gov/event/mentone-senior-center-chair-exercise/2026-03-21/
LOCATION:Mentone Senior Center\, 1331 Opal Ave.\, Mentone\, CA\, 92359\, United States
CATEGORIES:Seniors (65+)
END:VEVENT
BEGIN:VEVENT
DTSTART;TZID=America/Los_Angeles:20260319T111500
DTEND;TZID=America/Los_Angeles:20260319T133000
DTSTAMP:20260420T185339
CREATED:20260226T205033Z
LAST-MODIFIED:20260226T205033Z
UID:10008985-1773918900-1773927000@library.sbcounty.gov
SUMMARY:Hula Classes
DESCRIPTION:Basic hula levels offered from beginning to intermediate
URL:https://library.sbcounty.gov/event/mentone-senior-center-hula-classes/2026-03-19/
LOCATION:Mentone Senior Center\, 1331 Opal Ave.\, Mentone\, CA\, 92359\, United States
CATEGORIES:Seniors (65+)
END:VEVENT
BEGIN:VEVENT
DTSTART;TZID=America/Los_Angeles:20260319T101500
DTEND;TZID=America/Los_Angeles:20260319T110000
DTSTAMP:20260420T185339
CREATED:20260226T204902Z
LAST-MODIFIED:20260226T204902Z
UID:10008934-1773915300-1773918000@library.sbcounty.gov
SUMMARY:Hula for Health
DESCRIPTION:Join us for a low impact gentle Hula exercises!
URL:https://library.sbcounty.gov/event/mentone-senior-center-hula-for-health/2026-03-19/
LOCATION:Mentone Senior Center\, 1331 Opal Ave.\, Mentone\, CA\, 92359\, United States
CATEGORIES:Seniors (65+)
END:VEVENT
BEGIN:VEVENT
DTSTART;TZID=America/Los_Angeles:20260319T090000
DTEND;TZID=America/Los_Angeles:20260319T100000
DTSTAMP:20260420T185339
CREATED:20260226T204655Z
LAST-MODIFIED:20260226T204655Z
UID:10008883-1773910800-1773914400@library.sbcounty.gov
SUMMARY:Walking 4 Wellness
DESCRIPTION:Walk with us on our 0.25 mile track outside of the Senior Center and Library!
URL:https://library.sbcounty.gov/event/mentone-senior-center-walking-4-wellness-5/2026-03-19/
LOCATION:Mentone Senior Center\, 1331 Opal Ave.\, Mentone\, CA\, 92359\, United States
CATEGORIES:Seniors (65+)
END:VEVENT
BEGIN:VEVENT
DTSTART;TZID=America/Los_Angeles:20260319T090000
DTEND;TZID=America/Los_Angeles:20260319T100000
DTSTAMP:20260420T185339
CREATED:20260226T204552Z
LAST-MODIFIED:20260226T204552Z
UID:10008832-1773910800-1773914400@library.sbcounty.gov
SUMMARY:Chair Yoga
DESCRIPTION:Join us for a series of gentle physical exercises and stretches that will calm your mind and strengthen your body! (DVD instruction)
URL:https://library.sbcounty.gov/event/mentone-senior-center-chair-yoga/2026-03-19/
LOCATION:Mentone Senior Center\, 1331 Opal Ave.\, Mentone\, CA\, 92359\, United States
CATEGORIES:Seniors (65+)
END:VEVENT
BEGIN:VEVENT
DTSTART;TZID=America/Los_Angeles:20260319T083000
DTEND;TZID=America/Los_Angeles:20260319T090000
DTSTAMP:20260420T185339
CREATED:20260226T204405Z
LAST-MODIFIED:20260226T204405Z
UID:10008781-1773909000-1773910800@library.sbcounty.gov
SUMMARY:Senior Breakfast
DESCRIPTION:Join us for our senior breakfast to eat and socialize!
URL:https://library.sbcounty.gov/event/mentone-senior-center-senior-breakfast/2026-03-19/
LOCATION:Mentone Senior Center\, 1331 Opal Ave.\, Mentone\, CA\, 92359\, United States
CATEGORIES:Seniors (65+)
END:VEVENT
END:VCALENDAR