BEGIN:VCALENDAR
VERSION:2.0
PRODID:-//Library - ECPv6.15.14//NONSGML v1.0//EN
CALSCALE:GREGORIAN
METHOD:PUBLISH
X-ORIGINAL-URL:https://library.sbcounty.gov
X-WR-CALDESC:Events for Library
REFRESH-INTERVAL;VALUE=DURATION:PT1H
X-Robots-Tag:noindex
X-PUBLISHED-TTL:PT1H
BEGIN:VTIMEZONE
TZID:America/Los_Angeles
BEGIN:DAYLIGHT
TZOFFSETFROM:-0800
TZOFFSETTO:-0700
TZNAME:PDT
DTSTART:20250309T100000
END:DAYLIGHT
BEGIN:STANDARD
TZOFFSETFROM:-0700
TZOFFSETTO:-0800
TZNAME:PST
DTSTART:20251102T090000
END:STANDARD
BEGIN:DAYLIGHT
TZOFFSETFROM:-0800
TZOFFSETTO:-0700
TZNAME:PDT
DTSTART:20260308T100000
END:DAYLIGHT
BEGIN:STANDARD
TZOFFSETFROM:-0700
TZOFFSETTO:-0800
TZNAME:PST
DTSTART:20261101T090000
END:STANDARD
BEGIN:DAYLIGHT
TZOFFSETFROM:-0800
TZOFFSETTO:-0700
TZNAME:PDT
DTSTART:20270314T100000
END:DAYLIGHT
BEGIN:STANDARD
TZOFFSETFROM:-0700
TZOFFSETTO:-0800
TZNAME:PST
DTSTART:20271107T090000
END:STANDARD
END:VTIMEZONE
BEGIN:VEVENT
DTSTART;TZID=America/Los_Angeles:20260321T090000
DTEND;TZID=America/Los_Angeles:20260321T100000
DTSTAMP:20260421T005922
CREATED:20260226T201743Z
LAST-MODIFIED:20260226T201743Z
UID:10008259-1774083600-1774087200@library.sbcounty.gov
SUMMARY:Walking 4 Wellness
DESCRIPTION:Walk with us on our 0.25 mile track outside of the Senior Center and Library!
URL:https://library.sbcounty.gov/event/mentone-senior-center-walking-4-wellness/2026-03-21/
LOCATION:Mentone Senior Center\, 1331 Opal Ave.\, Mentone\, CA\, 92359\, United States
CATEGORIES:Seniors (65+)
END:VEVENT
BEGIN:VEVENT
DTSTART;TZID=America/Los_Angeles:20260321T090000
DTEND;TZID=America/Los_Angeles:20260321T100000
DTSTAMP:20260421T005922
CREATED:20260226T201527Z
LAST-MODIFIED:20260226T201837Z
UID:10008247-1774083600-1774087200@library.sbcounty.gov
SUMMARY:Chair Exercise
DESCRIPTION:Join us and exercise while seated in a chair (with DVD instruction).
URL:https://library.sbcounty.gov/event/mentone-senior-center-chair-exercise/2026-03-21/
LOCATION:Mentone Senior Center\, 1331 Opal Ave.\, Mentone\, CA\, 92359\, United States
CATEGORIES:Seniors (65+)
END:VEVENT
BEGIN:VEVENT
DTSTART;TZID=America/Los_Angeles:20260319T111500
DTEND;TZID=America/Los_Angeles:20260319T133000
DTSTAMP:20260421T005922
CREATED:20260226T205033Z
LAST-MODIFIED:20260226T205033Z
UID:10008985-1773918900-1773927000@library.sbcounty.gov
SUMMARY:Hula Classes
DESCRIPTION:Basic hula levels offered from beginning to intermediate
URL:https://library.sbcounty.gov/event/mentone-senior-center-hula-classes/2026-03-19/
LOCATION:Mentone Senior Center\, 1331 Opal Ave.\, Mentone\, CA\, 92359\, United States
CATEGORIES:Seniors (65+)
END:VEVENT
BEGIN:VEVENT
DTSTART;TZID=America/Los_Angeles:20260319T101500
DTEND;TZID=America/Los_Angeles:20260319T110000
DTSTAMP:20260421T005922
CREATED:20260226T204902Z
LAST-MODIFIED:20260226T204902Z
UID:10008934-1773915300-1773918000@library.sbcounty.gov
SUMMARY:Hula for Health
DESCRIPTION:Join us for a low impact gentle Hula exercises!
URL:https://library.sbcounty.gov/event/mentone-senior-center-hula-for-health/2026-03-19/
LOCATION:Mentone Senior Center\, 1331 Opal Ave.\, Mentone\, CA\, 92359\, United States
CATEGORIES:Seniors (65+)
END:VEVENT
BEGIN:VEVENT
DTSTART;TZID=America/Los_Angeles:20260319T090000
DTEND;TZID=America/Los_Angeles:20260319T100000
DTSTAMP:20260421T005922
CREATED:20260226T204655Z
LAST-MODIFIED:20260226T204655Z
UID:10008883-1773910800-1773914400@library.sbcounty.gov
SUMMARY:Walking 4 Wellness
DESCRIPTION:Walk with us on our 0.25 mile track outside of the Senior Center and Library!
URL:https://library.sbcounty.gov/event/mentone-senior-center-walking-4-wellness-5/2026-03-19/
LOCATION:Mentone Senior Center\, 1331 Opal Ave.\, Mentone\, CA\, 92359\, United States
CATEGORIES:Seniors (65+)
END:VEVENT
BEGIN:VEVENT
DTSTART;TZID=America/Los_Angeles:20260319T090000
DTEND;TZID=America/Los_Angeles:20260319T100000
DTSTAMP:20260421T005922
CREATED:20260226T204552Z
LAST-MODIFIED:20260226T204552Z
UID:10008832-1773910800-1773914400@library.sbcounty.gov
SUMMARY:Chair Yoga
DESCRIPTION:Join us for a series of gentle physical exercises and stretches that will calm your mind and strengthen your body! (DVD instruction)
URL:https://library.sbcounty.gov/event/mentone-senior-center-chair-yoga/2026-03-19/
LOCATION:Mentone Senior Center\, 1331 Opal Ave.\, Mentone\, CA\, 92359\, United States
CATEGORIES:Seniors (65+)
END:VEVENT
BEGIN:VEVENT
DTSTART;TZID=America/Los_Angeles:20260319T083000
DTEND;TZID=America/Los_Angeles:20260319T090000
DTSTAMP:20260421T005922
CREATED:20260226T204405Z
LAST-MODIFIED:20260226T204405Z
UID:10008781-1773909000-1773910800@library.sbcounty.gov
SUMMARY:Senior Breakfast
DESCRIPTION:Join us for our senior breakfast to eat and socialize!
URL:https://library.sbcounty.gov/event/mentone-senior-center-senior-breakfast/2026-03-19/
LOCATION:Mentone Senior Center\, 1331 Opal Ave.\, Mentone\, CA\, 92359\, United States
CATEGORIES:Seniors (65+)
END:VEVENT
END:VCALENDAR